Workbook
Name __123Graph_A: #REF!
Name __123Graph_A: '[1]All road-work file'!#REF!
Name __123Graph_X: #REF!
Name __123Graph_X: '[1]All road-work file'!#REF!
Name _12yrto100: #REF!
Name _12yrto60: #REF!
Name _3_IOU_and_POU_Rates: #REF!
Name _3yrto100: #REF!
Name _3yrto60: #REF!
Name _6yrto100: #REF!
Name _6yrto60: #REF!
Name _8yrt0100: #REF!
Name _9yrto100: #REF!
Name _9yrto60: #REF!
Name _AMO_UniqueIdentifier: "'7f26e32b-2cc9-4f43-881e-47427f0e1ea5'"
Name _Fill: #REF!
Name _Fill: [2]IWWABST!#REF!
Name _Key1: #REF!
Name _Key2: #REF!
Name _MatMult_A: #REF!
Name _MatMult_AxB: #REF!
Name _MatMult_B: #REF!
Name _New1: #REF!
Name _Order1: 255
Name _Order2: 255
Name _Regression_Int: 1
Name _SAS_empty_: #REF!
Name _Sort: #REF!
Name Account_Detail: #REF!
Name Account_Errors: #REF!
Name ACTION_FRACTION: #REF!
Name ACTION_FRACTION: '[3]BEARS Worksheet'!$T$85
Name adgadfghsfghb44: #REF!
Name bbbbb: #REF!
Name Budget___Expenditures______1: #REF!
Name CAlist: #REF!
Name Commitment_Type: #REF!
Name Consumption_Detail: #REF!
Name Cost_Scenario: #REF!
Name Cost_Scenario: '[4]Lists for Data Validation'!$O$3
Name County: #REF!
Name County: [5]CleanData!$Z$2
Name Countylookup: #REF!
Name Countylookup: [6]Finance!$A:$AF
Name Criteria_MI: #REF!
Name d: #REF!
Name DASFASDF: #REF!
Name data: #REF!
Name Database_MI: #REF!
Name Days: #REF!
Name DDD: #REF!
Name Demand_Reduction__Summer_Peak_kW___2: #REF!
Name Discount_Rate: #REF!
Name Discount_Rate: '[4]Project Level Details'!$I$22
Name Disrate: #REF!
Name DynCompany: "DPPI"
Name DynMajor: "Enter Pivot Title Here"
Name DynUser: "Steve"
Name EEGAVersion: #REF!
Name Elec_EndUse: #REF!

Sheet Read Me
B2: California Public Utilities Commission
B3: Business Plan Application Template
B7: Updated: | C7: July, 2025 | F7: WORKBOOK DROPDOWN MENU CONTROL
B9: General Instructions for Completing the Tables: | F9: Target Exempt | G9: PA | H9: Program Implementer | I9: Sector | J9: Program Category | K9: Program Segment | L9: Program Changes Reason
B10: WestLight Energy | C10: Input your PA name here. This will appear on all tabs. | F10: Yes | G10: PG&E | H10: IOU Core | I10: Residential | J10: Emerging Tech | K10: Resource Acquisition | L10: Programs to be closed with the disposition of 2028-2035 EE Application
B11: 2028-2035 | C11: Input your reference years here. This will appear on all tabs | F11: No | G11: SCE | H11: Third Party | I11: Commercial | J11: WE&T | K11: Market Support | L11: Programs to be closed upon completion of commitments
C12: All currency will be reported to the dollar, i.e., $0. | G12: SoCalGas | H12: REN/CCA | I12: Industrial | J12: Financing | K12: Equity | L12: Programs with reduced budgets (>40% budget decrease)
C13: Follow the legend to guide the input of various data requirements. | G13: SDG&E | I13: Agricultural | J13: Market Transformation | K13: Codes & Standards | L13: Programs with enhanced budgets (>40% budget increase)
C14: When adding rows, ensure all formulas are copied. | G14: BayREN | I14: Public | J14: Other | K14: EM&V | L14: Programs that are new in 2028 or beyond
C15: All tables totals should be recalculated to ensure footing/cross footing accuracy. | G15: WestLight Energy | I15: Cross-Cutting | J15: New Construction | L15: Programs with Third-Party Contracts that Sunset in 2028-2031
C16: Be mindful of print area to ensure footnotes are included when added. | I16: Portfolio Support | J16: Marketing Education & Outreach
C17: Review the legend at the bottom of the the Read Me. | J17: Energy Savings Assistance
J18: Codes & Standards
B19: Description | J19: EM&V
B20: This workbook supports the development and submission of CPUC Business Plan Application by providing a standardized template for organizing key programmatic, budgetary, and analytical information. Each Tab plans a specific role in collecting, processing, and summarizing relevant data to meet submission and regulatory requirements.
B22: Workbook Tab Definitions
B23: Function Definitions | C23: This tab provides a detailed breakdown of functional categories and definitions used to allocate and report energy efficiency program costs across planning, implementation, compliance, engineering, analytics, marketing, IT, and incentive functions.
B24: 0 Validations | C24: Provides a summary of key budget, revenue requirement, and cost category comparisons across the workbook, highlighting differences to ensure consistency between spending requests, cost recovery, and functional allocations.
B25: 1 Biller Payer Impacts | C25: Calculates estimated average annual and lifecycle bill savings for participating customers by applying electric and gas rates to forecasted program energy savings.
B26: 2 Rates Rev-IOU Only | C26: Presents the projected changes in electric and gas revenues, rates, and the energy efficiency portion of rates by customer class, illustrating the impact of proposed energy efficiency investments on utility bills.
B27: 3.1 Funding Category | C27: Summarizes funding sources and budget allocations for electric and gas programs, including procurement and revenue requirements, across various program administrators and utilities.
B28: 3.2 Funding - CCA_REN only | C28: Tracks annual electric and gas energy efficiency funds allocated by IOUs to RENs and CCAs from 2028–2035.
B29: 4.1 Program Budget 2028-2031 | C29: Outlines portfolio budget requests, spending, unspent and carryover balances, and cost components for your utility energy efficiency portfolio, including EM&V, ME&O, ESA, and financing pilots.
B30: 4.2 Sector Seg Budget 2032-2035 | C30: Details annual budget requests, energy savings, and emissions impacts by sector and program segment to support portfolio planning from 2028–2035.
B31: 4.3 TSB and C&S Budget 2032-2035 | C31: Compares business plan forecasts to CPUC goals for 2028–2035, including Total System Benefit and energy savings metrics for incentive programs and codes & standards.
B32: Budget Filing Data | C32: Contains raw budget filing data from CEDARS and CET grouped by Year, PA, Program ID, Program Name, Program Group, Primary Sector, Statewide Program, Program Category, Program Implementer, Filing Year Quarter, Program Segment and Program Status. Also includes calculations of interim steps related to cost-effectiveness metrics.
B33: 6 Statewide Programs | C33: Outlines statewide energy efficiency programs, including total contract budgets, proportional funding contributions, and administrative costs allocated across IOUs based on electric and gas load shares.
B34: 7 PA PY Budget | C34: Summarizes annual cost recovery requests (2028–2031) for IOUs, RENs, and CCAs, including EM&V, oversight, and offsets from unspent funds.
... B38: 11 Program Cards | C38: Flat file version of the program card tables in the narrative. Pas can use this template to populate the narrative.
B40: Legend
B41: Solid Gray, black font | C41: This cell style indicates a formula that should not be edited by the user.
B42: Solid Blue, blue font | C42: This cell style indicates a data input cell that should be edited by the user.
B43: Solid Gold, black font | C43: This cell style indicates the cell is a header/footer, no data input cell.
B44: Solid Green, black font | C44: This cell style indicates the aggregated data could come from record level budget filing (posted in CEDARS) or from the aggregated data described in the "Raw Budget Filing Data" tab.

Sheet Function Definitions
B2: Description | C2: This tab provides a detailed breakdown of functional categories and definitions used to allocate and report energy efficiency program costs across planning, implementation, compliance, engineering, analytics, marketing, IT, and incentive functions.
B4: Instructions | C4: Review table to familiarize yourself with functions definitions.
B6: PA Name: | C6: ='Read Me'!B10 -> WestLight Energy
B7: Budget Year: | C7: ='Read Me'!B11 -> 2028-2035
B9: FUNCTION DEFINITIONS
B10: Aggregated Category | C10: Definition | D10: Functional Category | E10: Detailed Definition
B11: Policy, Strategy, and Regulatory Reporting Compliance | C11: Includes policy, strategy, compliance, audits and regulatory support | D11: Planning & Compliance | E11: DSM Goal Planning; lead legislative review/positioning; policy support on reg proceedings; portfolio optimization; end use-market strategy; DSM lead for PRP, DRP, ES; locational targeting; audit support; SOX certifications; developing control plans; developing action plans; continuous monitoring; inspections; program/product QA/QC; decision compliance oversight/tracking; data requests; policies & procedures
D12: Company Regulatory Support | E12: Case management for EE proceedings
B13: Program management | C13: Includes labor, contracts, admin costs for program design, program implementation, product and channel management for all sectors | D13: Program Management & Delivery | E13: Market Segment & Locational Resource programs; Business Core & Finance Programs; Large Power DR Programs; Non-Res HVAC & Technical Services; Program Integration & Optimization; Residential EE & DR Programs (incl. Res HVAC QI); IQP & Economic Assistance Programs; Mass Market DR Programs; Education & Information Products & Services; Energy Leader Partnerships; Institutional & Federal Partnerships; REN Coordination; Strategic Plan Support; Energy/Water Program Mgt; Service Level Agreement Tracking
D14: Product Management | E14: Manage end-to-end new products and services (P&S) intake, evaluation, and launch process; develop and facilitate P&S governance teams, coordination of all sub-process owners, stakeholders, and technical resources required to evaluate and launch new products; evaluate and launch new services and OOR opportunities; develop external partnerships & strategic alliances; work with various companies and associations to help advance standards, products, and tech.; work with external experts to help reduce SCE costs to deliver new prog. and products; develop and launch new customer technologies, products, services for residential and business customers; conduct customer pilots of new technologies and programs; lead customer field demonstrations of new technologies and products; align new P&S to savings programs/incentives; develop new programs/incentives in support of savings goals
D15: Channel Management
D16: Contract Management | E16: Budget forecasting, spend tracking, invoice processing, and contract management with vendors and suppliers; Regulatory support for ME&O activities
B17: Engineering Services | C17: Includes engineering, project management, and contracts associated with workpaper development and pre/post sales project technical reviews and design assistance | D17: Custom project support | E17: Management of Emerging Products projects; Customized reviews; LCR/RFO support; Ex-ante review management; Technical policy support; Technical assessments; Workpapers; Tool development; End use subject matter expertise
D18: Deemed workpapers
D19: Project management
B20: Customer Application/Rebate and Incentive Processing | C20: Costs associated with application management and rebate and incentive processing (deemed and custom) | D20: Rebate & Application Processing
B21: Inspections | C21: Costs associated with project inspections | D21: Inspections
B22: Portfolio Analytics | C22: Includes analytics support, including internal performance reporting and external reporting | D22: Data analytics | E22: Data development for programs, products and services; Standard and ad hoc data extracts for internal and external clients ; Database management; CPUC, CAISO reporting; Data reconciliation; E3 support ; Compliance filing support; Funding Oversight; ESPI support; Program Results Data & Performance
B24: EM&V | C24: EM&V expenditures | D24: EM&V Studies | E24: Program and product review; manage evaluation studies
D25: EM&V Forecasting | E25: EE lead for LTPP and IEPR; market potential study; integration w/ procurement planning; CPUC Demand Analysis Working Group
B26: ME&O | C26: Costs associated with utility EE marketing; no statewide; focus on outsourced portion | D26: Marketing | E26: Customer Programs, Products, and Services Marketing; Digital Product Development; Digital Content & Optimization
D27: Customer insights | E27: Voice of the Customer; Customer satisfaction study measurement and analysis (JD Power, SDS); Customer testing/research
B28: Account Management / Sales | C28: Costs associated with account rep energy efficiency sales functions | D28: Account Management
B29: IT | C29: IT project specific costs and regular O&M | D29: IT - project specific | E29: Projects and minor enhancements. Includes project management/business integration ("PMO/BID"). Excluded: maintenance (which SCE defines as when something goes down, normal batch processing, verifying interfaces, etc.).
D30: IT - regular O&M
B31: Call Center | C31: Costs associated with call center staff fielding EE program questions | D31: Call Center
B32: Incentives | C32: Costs of rebate and incentive payments to customers | D32: Incentives

Sheet 0 Validations
B2: Description | C2: Provides a summary of key budget, revenue requirement, and cost category comparisons across the workbook, highlighting differences to ensure consistency between spending requests, cost recovery, and functional allocations.
B4: Instructions | C4: No entry required. Review summary tables after completing workbook.
B6: PA Name: | C6: ='Read Me'!B10 -> WestLight Energy
B7: Budget Year: | C7: ='Read Me'!B11 -> 2028-2035
C9: Spending Budget Comparison | D9: 2028 | E9: =+D9+1 -> 2029 | F9: =+E9+1 -> 2030 | G9: =+F9+1 -> 2031 | H9: =+G9+1 -> 2032 | I9: =+H9+1 -> 2033 | J9: =+I9+1 -> 2034 | K9: =+J9+1 -> 2035
C10: Tab 3.1 - PA Spending Budget Request (PA Program and EM&V) | D10: =SUMIFS('3.1 Funding Category'!$D$10:$D$81, '3.1 Funding Category'!$C$10:$C$81, '3.1 Funding Category'!$C$42, '3.1 Funding Category'!$B$10:$B$81, '0 Validations'!D9) -> 6593750 | E10: =SUMIFS('3.1 Funding Category'!$D$10:$D$81, '3.1 Funding Category'!$C$10:$C$81, '3.1 Funding Category'!$C$42, '3.1 Funding Category'!$B$10:$B$81, '0 Validations'!E9) -> 9025208.8 | F10: =SUMIFS('3.1 Funding Category'!$D$10:$D$81, '3.1 Funding Category'!$C$10:$C$81, '3.1 Funding Category'!$C$42, '3.1 Funding Category'!$B$10:$B$81, '0 Validations'!F9) -> 9817397.3 | G10: =SUMIFS('3.1 Funding Category'!$D$10:$D$81, '3.1 Funding Category'!$C$10:$C$81, '3.1 Funding Category'!$C$42, '3.1 Funding Category'!$B$10:$B$81, '0 Validations'!G9) -> 10865729 | H10: =SUMIFS('3.1 Funding Category'!$D$10:$D$81, '3.1 Funding Category'!$C$10:$C$81, '3.1 Funding Category'!$C$42, '3.1 Funding Category'!$B$10:$B$81, '0 Validations'!H9) -> 11191701 | I10: =SUMIFS('3.1 Funding Category'!$D$10:$D$81, '3.1 Funding Category'!$C$10:$C$81, '3.1 Funding Category'!$C$42, '3.1 Funding Category'!$B$10:$B$81, '0 Validations'!I9) -> 11527452 | J10: =SUMIFS('3.1 Funding Category'!$D$10:$D$81, '3.1 Funding Category'!$C$10:$C$81, '3.1 Funding Category'!$C$42, '3.1 Funding Category'!$B$10:$B$81, '0 Validations'!J9) -> 11873276 | K10: =SUMIFS('3.1 Funding Category'!$D$10:$D$81, '3.1 Funding Category'!$C$10:$C$81, '3.1 Funding Category'!$C$42, '3.1 Funding Category'!$B$10:$B$81, '0 Validations'!K9) -> 12229474
C11: Tab 4.1 & 4.2 - PA Spending Budget Request (PA Program and EM&V) | D11: =SUMIFS('4.1 Program Budget 2028-2031'!$N$16:$N$215, '4.1 Program Budget 2028-2031'!$M$16:$M$215, '0 Validations'!D9) -> 6593750 | E11: =SUMIFS('4.1 Program Budget 2028-2031'!$N$16:$N$215, '4.1 Program Budget 2028-2031'!$M$16:$M$215, '0 Validations'!E9) -> 9025208.8 | F11: =SUMIFS('4.1 Program Budget 2028-2031'!$N$16:$N$215, '4.1 Program Budget 2028-2031'!$M$16:$M$215, '0 Validations'!F9) -> 9817397.3 | G11: =SUMIFS('4.1 Program Budget 2028-2031'!$N$16:$N$215, '4.1 Program Budget 2028-2031'!$M$16:$M$215, '0 Validations'!G9) -> 10865729 | H11: =SUMIFS('4.2 Sector Seg Budget 2032-2035'!$F$13:$F$110, '4.2 Sector Seg Budget 2032-2035'!$E$13:$E$110, '0 Validations'!H9) -> 11191701 | I11: =SUMIFS('4.2 Sector Seg Budget 2032-2035'!$F$13:$F$110, '4.2 Sector Seg Budget 2032-2035'!$E$13:$E$110, '0 Validations'!I9) -> 11527452 | J11: =SUMIFS('4.2 Sector Seg Budget 2032-2035'!$F$13:$F$110, '4.2 Sector Seg Budget 2032-2035'!$E$13:$E$110, '0 Validations'!J9) -> 11873276 | K11: =SUMIFS('4.2 Sector Seg Budget 2032-2035'!$F$13:$F$110, '4.2 Sector Seg Budget 2032-2035'!$E$13:$E$110, '0 Validations'!K9) -> 12229474
C12: Tab 7 - PA Spending Budget Request (PA Program and EM&V) | D12: =SUMIFS('7 PA PY Budget'!$J$9:$J$60, '7 PA PY Budget'!$D$9:$D$60, '0 Validations'!$C$6, '7 PA PY Budget'!$C$9:$C$60, '0 Validations'!D9) -> 6593750 | E12: =SUMIFS('7 PA PY Budget'!$J$9:$J$60, '7 PA PY Budget'!$D$9:$D$60, '0 Validations'!$C$6, '7 PA PY Budget'!$C$9:$C$60, '0 Validations'!E9) -> 9025208.8 | F12: =SUMIFS('7 PA PY Budget'!$J$9:$J$60, '7 PA PY Budget'!$D$9:$D$60, '0 Validations'!$C$6, '7 PA PY Budget'!$C$9:$C$60, '0 Validations'!F9) -> 9817397.3 | G12: =SUMIFS('7 PA PY Budget'!$J$9:$J$60, '7 PA PY Budget'!$D$9:$D$60, '0 Validations'!$C$6, '7 PA PY Budget'!$C$9:$C$60, '0 Validations'!G9) -> 10865729
C13: Tab 8 - PA Spending Budget Request (PA Program and EM&V) | D13: =SUMIFS('8 Cap & Target '!$G$32:$G$111, '8 Cap & Target '!$D$32:$D$111, '8 Cap & Target '!$D$51, '8 Cap & Target '!$B$32:$B$111, D9) -> 6593750 | E13: =SUMIFS('8 Cap & Target '!$G$32:$G$111, '8 Cap & Target '!$D$32:$D$111, '8 Cap & Target '!$D$51, '8 Cap & Target '!$B$32:$B$111, E9) -> 9025208.8 | F13: =SUMIFS('8 Cap & Target '!$G$32:$G$111, '8 Cap & Target '!$D$32:$D$111, '8 Cap & Target '!$D$51, '8 Cap & Target '!$B$32:$B$111, F9) -> 9817397.3 | G13: =SUMIFS('8 Cap & Target '!$G$32:$G$111, '8 Cap & Target '!$D$32:$D$111, '8 Cap & Target '!$D$51, '8 Cap & Target '!$B$32:$B$111, G9) -> 10865729
C14: Tab 9 - PA Spending Budget Request (PA Program and EM&V) | D14: ='9 Portfolio FTE and Budget'!E55 -> 6593749.8 | E14: ='9 Portfolio FTE and Budget'!F55 -> 9025208.6 | F14: ='9 Portfolio FTE and Budget'!G55 -> 9817397.4 | G14: ='9 Portfolio FTE and Budget'!H55 -> 10865729
C15: Difference | D15: =IF(AND(D10=D11,D12=D13,D14=D13,D12=D11,D10=D14,D11=D13)=TRUE,0,"ERROR") -> ERROR | E15: =IF(AND(E10=E11,E12=E13,E14=E13,E12=E11,E10=E14,E11=E13)=TRUE,0,"ERROR") -> ERROR | F15: =IF(AND(F10=F11,F12=F13,F14=F13,F12=F11,F10=F14,F11=F13)=TRUE,0,"ERROR") -> ERROR | G15: =IF(AND(G10=G11,G12=G13,G14=G13,G12=G11,G10=G14,G11=G13)=TRUE,0,"ERROR") -> ERROR | H15: =IF(AND(H10=H11)=TRUE,0,"ERROR") -> 0 | I15: =IF(AND(I10=I11)=TRUE,0,"ERROR") -> 0 | J15: =IF(AND(J10=J11)=TRUE,0,"ERROR") -> 0 | K15: =IF(AND(K10=K11)=TRUE,0,"ERROR") -> 0
C17: Revenue Requirement or Cost Recovery Comparison | D17: =LEFT($C$7,4) -> 2028 | E17: =+D17+1 -> 2029 | F17: =+E17+1 -> 2030 | G17: =+F17+1 -> 2031 | H17: =+G17+1 -> 2032 | I17: =+H17+1 -> 2033 | J17: =+I17+1 -> 2034 | K17: =+J17+1 -> 2035
C18: Tab 3.1 - PA Revenue Requirement Request (Cost Recovery) | D18: ='3.1 Funding Category'!$D74 -> 6593750 | E18: ='3.1 Funding Category'!$D75 -> 9025208.8 | F18: ='3.1 Funding Category'!$D76 -> 9817397.3 | G18: ='3.1 Funding Category'!$D77 -> 10865729 | H18: ='3.1 Funding Category'!$D78 -> 11191701 | I18: ='3.1 Funding Category'!$D79 -> 11527452 | J18: ='3.1 Funding Category'!$D80 -> 11873276 | K18: ='3.1 Funding Category'!$D81 -> 12229474
D20: 2028 | I20: =+D20+1 -> 2029 | N20: =+I20+1 -> 2030 | S20: =+N20+1 -> 2031
C21: Program Budget by Cost Category | D21: Admin | E21: Mktg | F21: DINI | G21: DI Incentive | H21: EM&V | I21: Admin | J21: Mktg | K21: DINI | L21: DI Incentive | M21: EM&V | N21: Admin | O21: Mktg | P21: DINI | Q21: DI Incentive | R21: EM&V | S21: Admin | T21: Mktg | U21: DINI | V21: DI Incentive | W21: EM&V
C22: Tab 4.1 - Program Budgets | D22: =SUMIFS('4.1 Program Budget 2028-2031'!O$16:O$80, '4.1 Program Budget 2028-2031'!$M$16:$M$80,$D$20) -> 599400 | E22: =SUMIFS('4.1 Program Budget 2028-2031'!P$16:P$80, '4.1 Program Budget 2028-2031'!$M$16:$M$80, $D$20) -> 173520 | F22: =SUMIFS('4.1 Program Budget 2028-2031'!Q$16:Q$80, '4.1 Program Budget 2028-2031'!$M$16:$M$80, $D$20) -> 4517040 | G22: =SUMIFS('4.1 Program Budget 2028-2031'!U$16:U$80, '4.1 Program Budget 2028-2031'!$M$16:$M$80, $D$20) -> 1040040 | H22: =SUMIFS('4.1 Program Budget 2028-2031'!R$16:R$80, '4.1 Program Budget 2028-2031'!$M$16:$M$80, $D$20) -> 263750 | I22: =SUMIFS('4.1 Program Budget 2028-2031'!O$16:O$80, '4.1 Program Budget 2028-2031'!$M$16:$M$80, $I$20) -> 816600 | J22: =SUMIFS('4.1 Program Budget 2028-2031'!P$16:P$80, '4.1 Program Budget 2028-2031'!$M$16:$M$80, $I$20) -> 251040 | K22: =SUMIFS('4.1 Program Budget 2028-2031'!Q$16:Q$80, '4.1 Program Budget 2028-2031'!$M$16:$M$80, $I$20) -> 5083840 | L22: =SUMIFS('4.1 Program Budget 2028-2031'!U$16:U$80, '4.1 Program Budget 2028-2031'!$M$16:$M$80, $I$20) -> 2512720.8 | M22: =SUMIFS('4.1 Program Budget 2028-2031'!$R$16:$R$80, '4.1 Program Budget 2028-2031'!$M$16:$M$80, $I$20) -> 361008 | N22: =SUMIFS('4.1 Program Budget 2028-2031'!O$16:O$80, '4.1 Program Budget 2028-2031'!$M$16:$M$80, $N$20) -> 904200 | O22: =SUMIFS('4.1 Program Budget 2028-2031'!P$16:P$80, '4.1 Program Budget 2028-2031'!$M$16:$M$80, $N$20) -> 277860 | P22: =SUMIFS('4.1 Program Budget 2028-2031'!Q$16:Q$80, '4.1 Program Budget 2028-2031'!$M$16:$M$80, $N$20) -> 5517400 | Q22: =SUMIFS('4.1 Program Budget 2028-2031'!U$16:U$80, '4.1 Program Budget 2028-2031'!$M$16:$M$80, $N$20) -> 2725241.3 | R22: =SUMIFS('4.1 Program Budget 2028-2031'!$R$16:$R$80, '4.1 Program Budget 2028-2031'!$M$16:$M$80, $N$20) -> 392696 | S22: =SUMIFS('4.1 Program Budget 2028-2031'!O$16:O$80, '4.1 Program Budget 2028-2031'!$M$16:$M$80, $S$20) -> 1019800 | T22: =SUMIFS('4.1 Program Budget 2028-2031'!P$16:P$80, '4.1 Program Budget 2028-2031'!$M$16:$M$80, $S$20) -> 311580 | U22: =SUMIFS('4.1 Program Budget 2028-2031'!Q$16:Q$80, '4.1 Program Budget 2028-2031'!$M$16:$M$80, $S$20) -> 6092400 | V22: =SUMIFS('4.1 Program Budget 2028-2031'!U$16:U$80, '4.1 Program Budget 2028-2031'!$M$16:$M$80, $S$20) -> 3007320.3 | W22: =SUMIFS('4.1 Program Budget 2028-2031'!$R$16:$R$80, '4.1 Program Budget 2028-2031'!$M$16:$M$80, $S$20) -> 434629
C23: Tab 8 - Caps & Targets [1] | D23: =SUMIFS('8 Cap & Target '!$G$12:$G$111,'8 Cap & Target '!$D$12:$D$111,'8 Cap & Target '!$D$13,'8 Cap & Target '!$B$12:$B$111, D20)+ SUMIFS('8 Cap & Target '!$G$12:$G$111,'8 Cap & Target '!$D$12:$D$111,'8 Cap & Target '!$D$14,'8 Cap & Target '!$B$12:$B$111, D20)+ SUMIFS('8 Cap & Target '!$G$12:$G$111,'8 Cap & Target '!$D$12:$D$111,'8 Cap & Target '!$D$15,'8 Cap & Target '!$B$12:$B$111, D20) -> 599400 | E23: =SUMIFS('8 Cap & Target '!$G$12:$G$111,'8 Cap & Target '!$D$12:$D$111, '8 Cap & Target '!$D$16,'8 Cap & Target '!$B$12:$B$111, D20) -> 173520 | F23: ='8 Cap & Target '!E39+'8 Cap & Target '!E40 -> 4517040 | G23: =SUMIFS('8 Cap & Target '!$G$12:$G$111,'8 Cap & Target '!$D$12:$D$111, '8 Cap & Target '!$D$18,'8 Cap & Target '!$B$12:$B$111, D20) -> 1040040 | H23: ='8 Cap & Target '!E41 -> 263750 | I23: =SUMIFS('8 Cap & Target '!$G$12:$G$111,'8 Cap & Target '!$D$12:$D$111,'8 Cap & Target '!$D$13,'8 Cap & Target '!$B$12:$B$111, I20)+ SUMIFS('8 Cap & Target '!$G$12:$G$111,'8 Cap & Target '!$D$12:$D$111,'8 Cap & Target '!$D$14,'8 Cap & Target '!$B$12:$B$111, I20)+ SUMIFS('8 Cap & Target '!$G$12:$G$111,'8 Cap & Target '!$D$12:$D$111,'8 Cap & Target '!$D$15,'8 Cap & Target '!$B$12:$B$111, I20) -> 816600 | J23: =SUMIFS('8 Cap & Target '!$G$12:$G$111,'8 Cap & Target '!$D$12:$D$111, '8 Cap & Target '!$D$16,'8 Cap & Target '!$B$12:$B$111, I20) -> 251040 | K23: ='8 Cap & Target '!E59+'8 Cap & Target '!E60 -> 5083840 | L23: =SUMIFS('8 Cap & Target '!$G$12:$G$111,'8 Cap & Target '!$D$12:$D$111, '8 Cap & Target '!$D$18,'8 Cap & Target '!$B$12:$B$111, I20) -> 2512720.8 | M23: ='8 Cap & Target '!E61 -> 361008 | N23: =SUMIFS('8 Cap & Target '!$G$12:$G$111,'8 Cap & Target '!$D$12:$D$111,'8 Cap & Target '!$D$13,'8 Cap & Target '!$B$12:$B$111, N20)+ SUMIFS('8 Cap & Target '!$G$12:$G$111,'8 Cap & Target '!$D$12:$D$111,'8 Cap & Target '!$D$14,'8 Cap & Target '!$B$12:$B$111, N20)+ SUMIFS('8 Cap & Target '!$G$12:$G$111,'8 Cap & Target '!$D$12:$D$111,'8 Cap & Target '!$D$15,'8 Cap & Target '!$B$12:$B$111, N20) -> 904200 | O23: =SUMIFS('8 Cap & Target '!$G$12:$G$111,'8 Cap & Target '!$D$12:$D$111, '8 Cap & Target '!$D$16,'8 Cap & Target '!$B$12:$B$111, N20) -> 277860 | P23: ='8 Cap & Target '!E79+'8 Cap & Target '!E80 -> 5517400 | Q23: =SUMIFS('8 Cap & Target '!$G$12:$G$111,'8 Cap & Target '!$D$12:$D$111, '8 Cap & Target '!$D$18,'8 Cap & Target '!$B$12:$B$111, N20) -> 2725241.3 | R23: ='8 Cap & Target '!E81 -> 392696 | S23: =SUMIFS('8 Cap & Target '!$G$12:$G$111,'8 Cap & Target '!$D$12:$D$111,'8 Cap & Target '!$D$13,'8 Cap & Target '!$B$12:$B$111, S20)+ SUMIFS('8 Cap & Target '!$G$12:$G$111,'8 Cap & Target '!$D$12:$D$111,'8 Cap & Target '!$D$14,'8 Cap & Target '!$B$12:$B$111, S20)+ SUMIFS('8 Cap & Target '!$G$12:$G$111,'8 Cap & Target '!$D$12:$D$111,'8 Cap & Target '!$D$15,'8 Cap & Target '!$B$12:$B$111, S20) -> 1019800 | T23: =SUMIFS('8 Cap & Target '!$G$12:$G$111,'8 Cap & Target '!$D$12:$D$111, '8 Cap & Target '!$D$16,'8 Cap & Target '!$B$12:$B$111, S20) -> 311580 | U23: ='8 Cap & Target '!E99+'8 Cap & Target '!E100 -> 6092400 | V23: =SUMIFS('8 Cap & Target '!$G$12:$G$111,'8 Cap & Target '!$D$12:$D$111, '8 Cap & Target '!$D$18,'8 Cap & Target '!$B$12:$B$111, S20) -> 3007320.3 | W23: ='8 Cap & Target '!E101 -> 434629
C24: Difference | D24: =+D22-D23 -> 0 | E24: =+E22-E23 -> 0 | F24: =+F22-F23 -> 0 | G24: =+G22-G23 -> 0 | I24: =+I22-I23 -> 0 | J24: =+J22-J23 -> 0 | K24: =+K22-K23 -> 0 | L24: =+L22-L23 -> 0 | N24: =+N22-N23 -> 0 | O24: =+O22-O23 -> 0 | P24: =+P22-P23 -> 0 | Q24: =+Q22-Q23 -> 0 | S24: =+S22-S23 -> 0 | T24: =+T22-T23 -> 0 | U24: =+U22-U23 -> 0 | V24: =+V22-V23 -> 0
C25: Tab 9 - Incentives Column, EE Total | G25: =SUM('9 Portfolio FTE and Budget'!E52:E53) -> 1040040 | L25: =SUM('9 Portfolio FTE and Budget'!F52:F53) -> 2512721 | Q25: =SUM('9 Portfolio FTE and Budget'!G52:G53) -> 2725241 | V25: =SUM('9 Portfolio FTE and Budget'!H52:H53) -> 3007320
C26: Difference | G26: =+G22-G25 -> -0.00144 | K26: =+L22-L25 -> -0.1625 | O26: =+Q22-Q25 -> 0.2606 | S26: =+V22-V25 -> 0.2668
C29: [1] Updated DINI to capture both target exempt and non-exempt programs and EM&V to capture both PA and ED portions.

Sheet 1 Participant Bill Impacts
B2: Description | C2: Calculates estimated average first year bill savings for participating customers by calculated the electric and gas savings with the forecasted program energy savings.
B3: Instructions | C3: 2024 data is required for baseline.
B5: PA Name: | C5: ='Read Me'!B10 -> WestLight Energy
B6: Budget Year: | C6: ='Read Me'!B11 -> 2028-2035
B9: Note: Due to fuel substitution, participant first year savings and associated annual bill savings be negative
B11: Program Year | C11: Sector | D11: Participant First Year Electric Net Savings (kWh) | E11: Participant First Year Gas Net Savings (Therms) | F11: Total Average Annual Bill Savings Electric ($) | G11: Total Average Annual Bill Savings Gas ($) | H11: Total Bill Savings | I11: Calculated $/kWh | J11: Calculated $/Therms
B12: Reference: 2024 | C12: Total | D12: =D17+D22+D27+D32+D37+D42+D47 -> 0 | E12: =E17+E22+E27+E32+E37+E42+E47 -> 0 | F12: =F17+F22+F27+F32+F37+F42+F47 -> 0 | G12: =G17+G22+G27+G32+G37+G42+G47 -> 0 | H12: =H17+H22+H27+H32+H37+H42+H47 -> 0 | I12: =IF(D12=0, "NA",F12/D12) -> NA | J12: =IF(E12=0,"NA",G12/E12) -> NA
B13: 2028 | C13: Total | D13: =D18+D23+D28+D33+D38+D43+D48 -> 2584686.9 | E13: =E18+E23+E28+E33+E38+E43+E48 -> 102492.22 | F13: =F18+F23+F28+F33+F38+F43+F48 -> 868325.37 | G13: =G18+G23+G28+G33+G38+G43+G48 -> 219615.5 | H13: =H18+H23+H28+H33+H38+H43+H48 -> 1087940.9 | I13: =IF(D13=0, "NA",F13/D13) -> 0.33594993 | J13: =IF(E13=0,"NA",G13/E13) -> 2.1427529
B14: 2029 | C14: Total | D14: =D19+D24+D29+D34+D39+D44+D49 -> 9400379.8 | E14: =E19+E24+E29+E34+E39+E44+E49 -> 227635.9 | F14: =F19+F24+F29+F34+F39+F44+F49 -> 2617595.8 | G14: =G19+G24+G29+G34+G39+G44+G49 -> 444628.16 | H14: =H19+H24+H29+H34+H39+H44+H49 -> 3062224 | I14: =IF(D14=0, "NA",F14/D14) -> 0.27845639 | J14: =IF(E14=0,"NA",G14/E14) -> 1.9532427
B15: 2030 | C15: Total | D15: =D20+D25+D30+D35+D40+D45+D50 -> 9765779.5 | E15: =E20+E25+E30+E35+E40+E45+E50 -> 272976.24 | F15: =F20+F25+F30+F35+F40+F45+F50 -> 2696518.8 | G15: =G20+G25+G30+G35+G40+G45+G50 -> 578632.68 | H15: =H20+H25+H30+H35+H40+H45+H50 -> 3275151.5 | I15: =IF(D15=0, "NA",F15/D15) -> 0.27611916 | J15: =IF(E15=0,"NA",G15/E15) -> 2.1197181
B16: 2031 | C16: Total | D16: =D21+D26+D31+D36+D41+D46+D51 -> 10432493 | E16: =E21+E26+E31+E36+E41+E46+E51 -> 319158.72 | F16: =F21+F26+F31+F36+F41+F46+F51 -> 2954086.5 | G16: =G21+G26+G31+G36+G41+G46+G51 -> 698754.44 | H16: =H21+H26+H31+H36+H41+H46+H51 -> 3652840.9 | I16: =IF(D16=0, "NA",F16/D16) -> 0.2831621 | J16: =IF(E16=0,"NA",G16/E16) -> 2.1893634
B17: Reference: 2024 | C17: Residential | H17: =F17+G17 -> 0 | I17: =IF(D17=0, "NA",F17/D17) -> NA | J17: =IF(E17=0,"NA",G17/E17) -> NA
B18: 2028 | C18: Residential | D18: =SUMIFS('Budget Filing Data'!$P$10:$P$314,'Budget Filing Data'!$G$10:$G$314,'1 Participant Bill Impacts'!$C18,'Budget Filing Data'!$B$10:$B$314,'1 Participant Bill Impacts'!$B18) -> 485070.23 | E18: =SUMIFS('Budget Filing Data'!$R$10:$R$314,'Budget Filing Data'!$G$10:$G$314,'1 Participant Bill Impacts'!$C18,'Budget Filing Data'!$B$10:$B$314,'1 Participant Bill Impacts'!$B18) -> 20453.213 | F18: =SUMIFS('Budget Filing Data'!AT$10:AT$314,'Budget Filing Data'!$G$10:$G$314,'1 Participant Bill Impacts'!$C18,'Budget Filing Data'!$B$10:$B$314,'1 Participant Bill Impacts'!$B18) -> 123954.07 | G18: =SUMIFS('Budget Filing Data'!AU$10:AU$314,'Budget Filing Data'!$G$10:$G$314,'1 Participant Bill Impacts'!$C18,'Budget Filing Data'!$B$10:$B$314,'1 Participant Bill Impacts'!$B18) -> 50767.766 | H18: =F18+G18 -> 174721.84 | I18: =IF(D18=0, "NA",F18/D18) -> 0.2555384 | J18: =IF(E18=0,"NA",G18/E18) -> 2.4821413
B19: 2029 | C19: Residential | D19: =SUMIFS('Budget Filing Data'!$P$10:$P$314,'Budget Filing Data'!$G$10:$G$314,'1 Participant Bill Impacts'!$C19,'Budget Filing Data'!$B$10:$B$314,'1 Participant Bill Impacts'!$B19) -> 854443.99 | E19: =SUMIFS('Budget Filing Data'!$R$10:$R$314,'Budget Filing Data'!$G$10:$G$314,'1 Participant Bill Impacts'!$C19,'Budget Filing Data'!$B$10:$B$314,'1 Participant Bill Impacts'!$B19) -> 73341.251 | F19: =SUMIFS('Budget Filing Data'!AT$10:AT$314,'Budget Filing Data'!$G$10:$G$314,'1 Participant Bill Impacts'!$C19,'Budget Filing Data'!$B$10:$B$314,'1 Participant Bill Impacts'!$B19) -> 198229.33 | G19: =SUMIFS('Budget Filing Data'!AU$10:AU$314,'Budget Filing Data'!$G$10:$G$314,'1 Participant Bill Impacts'!$C19,'Budget Filing Data'!$B$10:$B$314,'1 Participant Bill Impacts'!$B19) -> 184947.81 | H19: =F19+G19 -> 383177.13 | I19: =IF(D19=0, "NA",F19/D19) -> 0.23199804 | J19: =IF(E19=0,"NA",G19/E19) -> 2.5217433
B20: 2030 | C20: Residential | D20: =SUMIFS('Budget Filing Data'!$P$10:$P$314,'Budget Filing Data'!$G$10:$G$314,'1 Participant Bill Impacts'!$C20,'Budget Filing Data'!$B$10:$B$314,'1 Participant Bill Impacts'!$B20) -> 1319348.2 | E20: =SUMIFS('Budget Filing Data'!$R$10:$R$314,'Budget Filing Data'!$G$10:$G$314,'1 Participant Bill Impacts'!$C20,'Budget Filing Data'!$B$10:$B$314,'1 Participant Bill Impacts'!$B20) -> 120028.87 | F20: =SUMIFS('Budget Filing Data'!AT$10:AT$314,'Budget Filing Data'!$G$10:$G$314,'1 Participant Bill Impacts'!$C20,'Budget Filing Data'!$B$10:$B$314,'1 Participant Bill Impacts'!$B20) -> 291396.86 | G20: =SUMIFS('Budget Filing Data'!AU$10:AU$314,'Budget Filing Data'!$G$10:$G$314,'1 Participant Bill Impacts'!$C20,'Budget Filing Data'!$B$10:$B$314,'1 Participant Bill Impacts'!$B20) -> 310716.53 | H20: =F20+G20 -> 602113.39 | I20: =IF(D20=0, "NA",F20/D20) -> 0.22086426 | J20: =IF(E20=0,"NA",G20/E20) -> 2.5886816
B21: 2031 | C21: Residential | D21: =SUMIFS('Budget Filing Data'!$P$10:$P$314,'Budget Filing Data'!$G$10:$G$314,'1 Participant Bill Impacts'!$C21,'Budget Filing Data'!$B$10:$B$314,'1 Participant Bill Impacts'!$B21) -> 1773986.9 | E21: =SUMIFS('Budget Filing Data'!$R$10:$R$314,'Budget Filing Data'!$G$10:$G$314,'1 Participant Bill Impacts'!$C21,'Budget Filing Data'!$B$10:$B$314,'1 Participant Bill Impacts'!$B21) -> 146868.89 | F21: =SUMIFS('Budget Filing Data'!AT$10:AT$314,'Budget Filing Data'!$G$10:$G$314,'1 Participant Bill Impacts'!$C21,'Budget Filing Data'!$B$10:$B$314,'1 Participant Bill Impacts'!$B21) -> 422055.95 | G21: =SUMIFS('Budget Filing Data'!AU$10:AU$314,'Budget Filing Data'!$G$10:$G$314,'1 Participant Bill Impacts'!$C21,'Budget Filing Data'!$B$10:$B$314,'1 Participant Bill Impacts'!$B21) -> 387648.51 | H21: =F21+G21 -> 809704.46 | I21: =IF(D21=0, "NA",F21/D21) -> 0.23791379 | J21: =IF(E21=0,"NA",G21/E21) -> 2.6394187
B22: Reference: 2024 | C22: Commercial | H22: =F22+G22 -> 0 | I22: =IF(D22=0, "NA",F22/D22) -> NA | J22: =IF(E22=0,"NA",G22/E22) -> NA
B23: 2028 | C23: Commercial | D23: =SUMIFS('Budget Filing Data'!$P$10:$P$314,'Budget Filing Data'!$G$10:$G$314,'1 Participant Bill Impacts'!$C23,'Budget Filing Data'!$B$10:$B$314,'1 Participant Bill Impacts'!$B23) -> 2099616.6 | E23: =SUMIFS('Budget Filing Data'!$R$10:$R$314,'Budget Filing Data'!$G$10:$G$314,'1 Participant Bill Impacts'!$C23,'Budget Filing Data'!$B$10:$B$314,'1 Participant Bill Impacts'!$B23) -> 82039.004 | F23: =SUMIFS('Budget Filing Data'!AT$10:AT$314,'Budget Filing Data'!$G$10:$G$314,'1 Participant Bill Impacts'!$C23,'Budget Filing Data'!$B$10:$B$314,'1 Participant Bill Impacts'!$B23) -> 744371.3 | G23: =SUMIFS('Budget Filing Data'!AU$10:AU$314,'Budget Filing Data'!$G$10:$G$314,'1 Participant Bill Impacts'!$C23,'Budget Filing Data'!$B$10:$B$314,'1 Participant Bill Impacts'!$B23) -> 168847.73 | H23: =F23+G23 -> 913219.03 | I23: =IF(D23=0, "NA",F23/D23) -> 0.35452724 | J23: =IF(E23=0,"NA",G23/E23) -> 2.0581397
B24: 2029 | C24: Commercial | D24: =SUMIFS('Budget Filing Data'!$P$10:$P$314,'Budget Filing Data'!$G$10:$G$314,'1 Participant Bill Impacts'!$C24,'Budget Filing Data'!$B$10:$B$314,'1 Participant Bill Impacts'!$B24) -> 8545935.8 | E24: =SUMIFS('Budget Filing Data'!$R$10:$R$314,'Budget Filing Data'!$G$10:$G$314,'1 Participant Bill Impacts'!$C24,'Budget Filing Data'!$B$10:$B$314,'1 Participant Bill Impacts'!$B24) -> 154294.65 | F24: =SUMIFS('Budget Filing Data'!AT$10:AT$314,'Budget Filing Data'!$G$10:$G$314,'1 Participant Bill Impacts'!$C24,'Budget Filing Data'!$B$10:$B$314,'1 Participant Bill Impacts'!$B24) -> 2419366.5 | G24: =SUMIFS('Budget Filing Data'!AU$10:AU$314,'Budget Filing Data'!$G$10:$G$314,'1 Participant Bill Impacts'!$C24,'Budget Filing Data'!$B$10:$B$314,'1 Participant Bill Impacts'!$B24) -> 259680.36 | H24: =F24+G24 -> 2679046.9 | I24: =IF(D24=0, "NA",F24/D24) -> 0.28310141 | J24: =IF(E24=0,"NA",G24/E24) -> 1.683016
B25: 2030 | C25: Commercial | D25: =SUMIFS('Budget Filing Data'!$P$10:$P$314,'Budget Filing Data'!$G$10:$G$314,'1 Participant Bill Impacts'!$C25,'Budget Filing Data'!$B$10:$B$314,'1 Participant Bill Impacts'!$B25) -> 8446431.4 | E25: =SUMIFS('Budget Filing Data'!$R$10:$R$314,'Budget Filing Data'!$G$10:$G$314,'1 Participant Bill Impacts'!$C25,'Budget Filing Data'!$B$10:$B$314,'1 Participant Bill Impacts'!$B25) -> 152947.37 | F25: =SUMIFS('Budget Filing Data'!AT$10:AT$314,'Budget Filing Data'!$G$10:$G$314,'1 Participant Bill Impacts'!$C25,'Budget Filing Data'!$B$10:$B$314,'1 Participant Bill Impacts'!$B25) -> 2405122 | G25: =SUMIFS('Budget Filing Data'!AU$10:AU$314,'Budget Filing Data'!$G$10:$G$314,'1 Participant Bill Impacts'!$C25,'Budget Filing Data'!$B$10:$B$314,'1 Participant Bill Impacts'!$B25) -> 267916.15 | H25: =F25+G25 -> 2673038.1 | I25: =IF(D25=0, "NA",F25/D25) -> 0.28475008 | J25: =IF(E25=0,"NA",G25/E25) -> 1.7516885
B26: 2031 | C26: Commercial | D26: =SUMIFS('Budget Filing Data'!$P$10:$P$314,'Budget Filing Data'!$G$10:$G$314,'1 Participant Bill Impacts'!$C26,'Budget Filing Data'!$B$10:$B$314,'1 Participant Bill Impacts'!$B26) -> 8658505.7 | E26: =SUMIFS('Budget Filing Data'!$R$10:$R$314,'Budget Filing Data'!$G$10:$G$314,'1 Participant Bill Impacts'!$C26,'Budget Filing Data'!$B$10:$B$314,'1 Participant Bill Impacts'!$B26) -> 172289.83 | F26: =SUMIFS('Budget Filing Data'!AT$10:AT$314,'Budget Filing Data'!$G$10:$G$314,'1 Participant Bill Impacts'!$C26,'Budget Filing Data'!$B$10:$B$314,'1 Participant Bill Impacts'!$B26) -> 2532030.5 | G26: =SUMIFS('Budget Filing Data'!AU$10:AU$314,'Budget Filing Data'!$G$10:$G$314,'1 Participant Bill Impacts'!$C26,'Budget Filing Data'!$B$10:$B$314,'1 Participant Bill Impacts'!$B26) -> 311105.93 | H26: =F26+G26 -> 2843136.5 | I26: =IF(D26=0, "NA",F26/D26) -> 0.29243274 | J26: =IF(E26=0,"NA",G26/E26) -> 1.8057127
B27: Reference: 2024 | C27: Industrial | H27: =F27+G27 -> 0 | I27: =IF(D27=0, "NA",F27/D27) -> NA | J27: =IF(E27=0,"NA",G27/E27) -> NA
B28: 2028 | C28: Industrial | D28: =SUMIFS('Budget Filing Data'!$P$10:$P$314,'Budget Filing Data'!$G$10:$G$314,'1 Participant Bill Impacts'!$C28,'Budget Filing Data'!$B$10:$B$314,'1 Participant Bill Impacts'!$B28) -> 0 | E28: =SUMIFS('Budget Filing Data'!$R$10:$R$314,'Budget Filing Data'!$G$10:$G$314,'1 Participant Bill Impacts'!$C28,'Budget Filing Data'!$B$10:$B$314,'1 Participant Bill Impacts'!$B28) -> 0 | F28: =SUMIFS('Budget Filing Data'!AT$10:AT$314,'Budget Filing Data'!$G$10:$G$314,'1 Participant Bill Impacts'!$C28,'Budget Filing Data'!$B$10:$B$314,'1 Participant Bill Impacts'!$B28) -> 0 | G28: =SUMIFS('Budget Filing Data'!AU$10:AU$314,'Budget Filing Data'!$G$10:$G$314,'1 Participant Bill Impacts'!$C28,'Budget Filing Data'!$B$10:$B$314,'1 Participant Bill Impacts'!$B28) -> 0 | H28: =F28+G28 -> 0 | I28: =IF(D28=0, "NA",F28/D28) -> NA | J28: =IF(E28=0,"NA",G28/E28) -> NA
B29: 2029 | C29: Industrial | D29: =SUMIFS('Budget Filing Data'!$P$10:$P$314,'Budget Filing Data'!$G$10:$G$314,'1 Participant Bill Impacts'!$C29,'Budget Filing Data'!$B$10:$B$314,'1 Participant Bill Impacts'!$B29) -> 0 | E29: =SUMIFS('Budget Filing Data'!$R$10:$R$314,'Budget Filing Data'!$G$10:$G$314,'1 Participant Bill Impacts'!$C29,'Budget Filing Data'!$B$10:$B$314,'1 Participant Bill Impacts'!$B29) -> 0 | F29: =SUMIFS('Budget Filing Data'!AT$10:AT$314,'Budget Filing Data'!$G$10:$G$314,'1 Participant Bill Impacts'!$C29,'Budget Filing Data'!$B$10:$B$314,'1 Participant Bill Impacts'!$B29) -> 0 | G29: =SUMIFS('Budget Filing Data'!AU$10:AU$314,'Budget Filing Data'!$G$10:$G$314,'1 Participant Bill Impacts'!$C29,'Budget Filing Data'!$B$10:$B$314,'1 Participant Bill Impacts'!$B29) -> 0 | H29: =F29+G29 -> 0 | I29: =IF(D29=0, "NA",F29/D29) -> NA | J29: =IF(E29=0,"NA",G29/E29) -> NA
B30: 2030 | C30: Industrial | D30: =SUMIFS('Budget Filing Data'!$P$10:$P$314,'Budget Filing Data'!$G$10:$G$314,'1 Participant Bill Impacts'!$C30,'Budget Filing Data'!$B$10:$B$314,'1 Participant Bill Impacts'!$B30) -> 0 | E30: =SUMIFS('Budget Filing Data'!$R$10:$R$314,'Budget Filing Data'!$G$10:$G$314,'1 Participant Bill Impacts'!$C30,'Budget Filing Data'!$B$10:$B$314,'1 Participant Bill Impacts'!$B30) -> 0 | F30: =SUMIFS('Budget Filing Data'!AT$10:AT$314,'Budget Filing Data'!$G$10:$G$314,'1 Participant Bill Impacts'!$C30,'Budget Filing Data'!$B$10:$B$314,'1 Participant Bill Impacts'!$B30) -> 0 | G30: =SUMIFS('Budget Filing Data'!AU$10:AU$314,'Budget Filing Data'!$G$10:$G$314,'1 Participant Bill Impacts'!$C30,'Budget Filing Data'!$B$10:$B$314,'1 Participant Bill Impacts'!$B30) -> 0 | H30: =F30+G30 -> 0 | I30: =IF(D30=0, "NA",F30/D30) -> NA | J30: =IF(E30=0,"NA",G30/E30) -> NA
B31: 2031 | C31: Industrial | D31: =SUMIFS('Budget Filing Data'!$P$10:$P$314,'Budget Filing Data'!$G$10:$G$314,'1 Participant Bill Impacts'!$C31,'Budget Filing Data'!$B$10:$B$314,'1 Participant Bill Impacts'!$B31) -> 0 | E31: =SUMIFS('Budget Filing Data'!$R$10:$R$314,'Budget Filing Data'!$G$10:$G$314,'1 Participant Bill Impacts'!$C31,'Budget Filing Data'!$B$10:$B$314,'1 Participant Bill Impacts'!$B31) -> 0 | F31: =SUMIFS('Budget Filing Data'!AT$10:AT$314,'Budget Filing Data'!$G$10:$G$314,'1 Participant Bill Impacts'!$C31,'Budget Filing Data'!$B$10:$B$314,'1 Participant Bill Impacts'!$B31) -> 0 | G31: =SUMIFS('Budget Filing Data'!AU$10:AU$314,'Budget Filing Data'!$G$10:$G$314,'1 Participant Bill Impacts'!$C31,'Budget Filing Data'!$B$10:$B$314,'1 Participant Bill Impacts'!$B31) -> 0 | H31: =F31+G31 -> 0 | I31: =IF(D31=0, "NA",F31/D31) -> NA | J31: =IF(E31=0,"NA",G31/E31) -> NA
B32: Reference: 2024 | C32: Agricultural | H32: =F32+G32 -> 0 | I32: =IF(D32=0, "NA",F32/D32) -> NA | J32: =IF(E32=0,"NA",G32/E32) -> NA
B33: 2028 | C33: Agricultural | D33: =SUMIFS('Budget Filing Data'!$P$10:$P$314,'Budget Filing Data'!$G$10:$G$314,'1 Participant Bill Impacts'!$C33,'Budget Filing Data'!$B$10:$B$314,'1 Participant Bill Impacts'!$B33) -> 0 | E33: =SUMIFS('Budget Filing Data'!$R$10:$R$314,'Budget Filing Data'!$G$10:$G$314,'1 Participant Bill Impacts'!$C33,'Budget Filing Data'!$B$10:$B$314,'1 Participant Bill Impacts'!$B33) -> 0 | F33: =SUMIFS('Budget Filing Data'!AT$10:AT$314,'Budget Filing Data'!$G$10:$G$314,'1 Participant Bill Impacts'!$C33,'Budget Filing Data'!$B$10:$B$314,'1 Participant Bill Impacts'!$B33) -> 0 | G33: =SUMIFS('Budget Filing Data'!AU$10:AU$314,'Budget Filing Data'!$G$10:$G$314,'1 Participant Bill Impacts'!$C33,'Budget Filing Data'!$B$10:$B$314,'1 Participant Bill Impacts'!$B33) -> 0 | H33: =F33+G33 -> 0 | I33: =IF(D33=0, "NA",F33/D33) -> NA | J33: =IF(E33=0,"NA",G33/E33) -> NA
B34: 2029 | C34: Agricultural | D34: =SUMIFS('Budget Filing Data'!$P$10:$P$314,'Budget Filing Data'!$G$10:$G$314,'1 Participant Bill Impacts'!$C34,'Budget Filing Data'!$B$10:$B$314,'1 Participant Bill Impacts'!$B34) -> 0 | E34: =SUMIFS('Budget Filing Data'!$R$10:$R$314,'Budget Filing Data'!$G$10:$G$314,'1 Participant Bill Impacts'!$C34,'Budget Filing Data'!$B$10:$B$314,'1 Participant Bill Impacts'!$B34) -> 0 | F34: =SUMIFS('Budget Filing Data'!AT$10:AT$314,'Budget Filing Data'!$G$10:$G$314,'1 Participant Bill Impacts'!$C34,'Budget Filing Data'!$B$10:$B$314,'1 Participant Bill Impacts'!$B34) -> 0 | G34: =SUMIFS('Budget Filing Data'!AU$10:AU$314,'Budget Filing Data'!$G$10:$G$314,'1 Participant Bill Impacts'!$C34,'Budget Filing Data'!$B$10:$B$314,'1 Participant Bill Impacts'!$B34) -> 0 | H34: =F34+G34 -> 0 | I34: =IF(D34=0, "NA",F34/D34) -> NA | J34: =IF(E34=0,"NA",G34/E34) -> NA
B35: 2030 | C35: Agricultural | D35: =SUMIFS('Budget Filing Data'!$P$10:$P$314,'Budget Filing Data'!$G$10:$G$314,'1 Participant Bill Impacts'!$C35,'Budget Filing Data'!$B$10:$B$314,'1 Participant Bill Impacts'!$B35) -> 0 | E35: =SUMIFS('Budget Filing Data'!$R$10:$R$314,'Budget Filing Data'!$G$10:$G$314,'1 Participant Bill Impacts'!$C35,'Budget Filing Data'!$B$10:$B$314,'1 Participant Bill Impacts'!$B35) -> 0 | F35: =SUMIFS('Budget Filing Data'!AT$10:AT$314,'Budget Filing Data'!$G$10:$G$314,'1 Participant Bill Impacts'!$C35,'Budget Filing Data'!$B$10:$B$314,'1 Participant Bill Impacts'!$B35) -> 0 | G35: =SUMIFS('Budget Filing Data'!AU$10:AU$314,'Budget Filing Data'!$G$10:$G$314,'1 Participant Bill Impacts'!$C35,'Budget Filing Data'!$B$10:$B$314,'1 Participant Bill Impacts'!$B35) -> 0 | H35: =F35+G35 -> 0 | I35: =IF(D35=0, "NA",F35/D35) -> NA | J35: =IF(E35=0,"NA",G35/E35) -> NA
B36: 2031 | C36: Agricultural | D36: =SUMIFS('Budget Filing Data'!$P$10:$P$314,'Budget Filing Data'!$G$10:$G$314,'1 Participant Bill Impacts'!$C36,'Budget Filing Data'!$B$10:$B$314,'1 Participant Bill Impacts'!$B36) -> 0 | E36: =SUMIFS('Budget Filing Data'!$R$10:$R$314,'Budget Filing Data'!$G$10:$G$314,'1 Participant Bill Impacts'!$C36,'Budget Filing Data'!$B$10:$B$314,'1 Participant Bill Impacts'!$B36) -> 0 | F36: =SUMIFS('Budget Filing Data'!AT$10:AT$314,'Budget Filing Data'!$G$10:$G$314,'1 Participant Bill Impacts'!$C36,'Budget Filing Data'!$B$10:$B$314,'1 Participant Bill Impacts'!$B36) -> 0 | G36: =SUMIFS('Budget Filing Data'!AU$10:AU$314,'Budget Filing Data'!$G$10:$G$314,'1 Participant Bill Impacts'!$C36,'Budget Filing Data'!$B$10:$B$314,'1 Participant Bill Impacts'!$B36) -> 0 | H36: =F36+G36 -> 0 | I36: =IF(D36=0, "NA",F36/D36) -> NA | J36: =IF(E36=0,"NA",G36/E36) -> NA
B37: Reference: 2024 | C37: Public | H37: =F37+G37 -> 0 | I37: =IF(D37=0, "NA",F37/D37) -> NA | J37: =IF(E37=0,"NA",G37/E37) -> NA
B38: 2028 | C38: Public | D38: =SUMIFS('Budget Filing Data'!$P$10:$P$314,'Budget Filing Data'!$G$10:$G$314,'1 Participant Bill Impacts'!$C38,'Budget Filing Data'!$B$10:$B$314,'1 Participant Bill Impacts'!$B38) -> 0 | E38: =SUMIFS('Budget Filing Data'!$R$10:$R$314,'Budget Filing Data'!$G$10:$G$314,'1 Participant Bill Impacts'!$C38,'Budget Filing Data'!$B$10:$B$314,'1 Participant Bill Impacts'!$B38) -> 0 | F38: =SUMIFS('Budget Filing Data'!AT$10:AT$314,'Budget Filing Data'!$G$10:$G$314,'1 Participant Bill Impacts'!$C38,'Budget Filing Data'!$B$10:$B$314,'1 Participant Bill Impacts'!$B38) -> 0 | G38: =SUMIFS('Budget Filing Data'!AU$10:AU$314,'Budget Filing Data'!$G$10:$G$314,'1 Participant Bill Impacts'!$C38,'Budget Filing Data'!$B$10:$B$314,'1 Participant Bill Impacts'!$B38) -> 0 | H38: =F38+G38 -> 0 | I38: =IF(D38=0, "NA",F38/D38) -> NA | J38: =IF(E38=0,"NA",G38/E38) -> NA
B39: 2029 | C39: Public | D39: =SUMIFS('Budget Filing Data'!$P$10:$P$314,'Budget Filing Data'!$G$10:$G$314,'1 Participant Bill Impacts'!$C39,'Budget Filing Data'!$B$10:$B$314,'1 Participant Bill Impacts'!$B39) -> 0 | E39: =SUMIFS('Budget Filing Data'!$R$10:$R$314,'Budget Filing Data'!$G$10:$G$314,'1 Participant Bill Impacts'!$C39,'Budget Filing Data'!$B$10:$B$314,'1 Participant Bill Impacts'!$B39) -> 0 | F39: =SUMIFS('Budget Filing Data'!AT$10:AT$314,'Budget Filing Data'!$G$10:$G$314,'1 Participant Bill Impacts'!$C39,'Budget Filing Data'!$B$10:$B$314,'1 Participant Bill Impacts'!$B39) -> 0 | G39: =SUMIFS('Budget Filing Data'!AU$10:AU$314,'Budget Filing Data'!$G$10:$G$314,'1 Participant Bill Impacts'!$C39,'Budget Filing Data'!$B$10:$B$314,'1 Participant Bill Impacts'!$B39) -> 0 | H39: =F39+G39 -> 0 | I39: =IF(D39=0, "NA",F39/D39) -> NA | J39: =IF(E39=0,"NA",G39/E39) -> NA
B40: 2030 | C40: Public | D40: =SUMIFS('Budget Filing Data'!$P$10:$P$314,'Budget Filing Data'!$G$10:$G$314,'1 Participant Bill Impacts'!$C40,'Budget Filing Data'!$B$10:$B$314,'1 Participant Bill Impacts'!$B40) -> 0 | E40: =SUMIFS('Budget Filing Data'!$R$10:$R$314,'Budget Filing Data'!$G$10:$G$314,'1 Participant Bill Impacts'!$C40,'Budget Filing Data'!$B$10:$B$314,'1 Participant Bill Impacts'!$B40) -> 0 | F40: =SUMIFS('Budget Filing Data'!AT$10:AT$314,'Budget Filing Data'!$G$10:$G$314,'1 Participant Bill Impacts'!$C40,'Budget Filing Data'!$B$10:$B$314,'1 Participant Bill Impacts'!$B40) -> 0 | G40: =SUMIFS('Budget Filing Data'!AU$10:AU$314,'Budget Filing Data'!$G$10:$G$314,'1 Participant Bill Impacts'!$C40,'Budget Filing Data'!$B$10:$B$314,'1 Participant Bill Impacts'!$B40) -> 0 | H40: =F40+G40 -> 0 | I40: =IF(D40=0, "NA",F40/D40) -> NA | J40: =IF(E40=0,"NA",G40/E40) -> NA
B41: 2031 | C41: Public | D41: =SUMIFS('Budget Filing Data'!$P$10:$P$314,'Budget Filing Data'!$G$10:$G$314,'1 Participant Bill Impacts'!$C41,'Budget Filing Data'!$B$10:$B$314,'1 Participant Bill Impacts'!$B41) -> 0 | E41: =SUMIFS('Budget Filing Data'!$R$10:$R$314,'Budget Filing Data'!$G$10:$G$314,'1 Participant Bill Impacts'!$C41,'Budget Filing Data'!$B$10:$B$314,'1 Participant Bill Impacts'!$B41) -> 0 | F41: =SUMIFS('Budget Filing Data'!AT$10:AT$314,'Budget Filing Data'!$G$10:$G$314,'1 Participant Bill Impacts'!$C41,'Budget Filing Data'!$B$10:$B$314,'1 Participant Bill Impacts'!$B41) -> 0 | G41: =SUMIFS('Budget Filing Data'!AU$10:AU$314,'Budget Filing Data'!$G$10:$G$314,'1 Participant Bill Impacts'!$C41,'Budget Filing Data'!$B$10:$B$314,'1 Participant Bill Impacts'!$B41) -> 0 | H41: =F41+G41 -> 0 | I41: =IF(D41=0, "NA",F41/D41) -> NA | J41: =IF(E41=0,"NA",G41/E41) -> NA
B42: Reference: 2024 | C42: Cross-Cutting | H42: =F42+G42 -> 0 | I42: =IF(D42=0, "NA",F42/D42) -> NA | J42: =IF(E42=0,"NA",G42/E42) -> NA
B43: 2028 | C43: Cross-Cutting | D43: =SUMIFS('Budget Filing Data'!$P$10:$P$314,'Budget Filing Data'!$G$10:$G$314,'1 Participant Bill Impacts'!$C43,'Budget Filing Data'!$B$10:$B$314,'1 Participant Bill Impacts'!$B43) -> 0 | E43: =SUMIFS('Budget Filing Data'!$R$10:$R$314,'Budget Filing Data'!$G$10:$G$314,'1 Participant Bill Impacts'!$C43,'Budget Filing Data'!$B$10:$B$314,'1 Participant Bill Impacts'!$B43) -> 0 | F43: =SUMIFS('Budget Filing Data'!AT$10:AT$314,'Budget Filing Data'!$G$10:$G$314,'1 Participant Bill Impacts'!$C43,'Budget Filing Data'!$B$10:$B$314,'1 Participant Bill Impacts'!$B43) -> 0 | G43: =SUMIFS('Budget Filing Data'!AU$10:AU$314,'Budget Filing Data'!$G$10:$G$314,'1 Participant Bill Impacts'!$C43,'Budget Filing Data'!$B$10:$B$314,'1 Participant Bill Impacts'!$B43) -> 0 | H43: =F43+G43 -> 0 | I43: =IF(D43=0, "NA",F43/D43) -> NA | J43: =IF(E43=0,"NA",G43/E43) -> NA
B44: 2029 | C44: Cross-Cutting | D44: =SUMIFS('Budget Filing Data'!$P$10:$P$314,'Budget Filing Data'!$G$10:$G$314,'1 Participant Bill Impacts'!$C44,'Budget Filing Data'!$B$10:$B$314,'1 Participant Bill Impacts'!$B44) -> 0 | E44: =SUMIFS('Budget Filing Data'!$R$10:$R$314,'Budget Filing Data'!$G$10:$G$314,'1 Participant Bill Impacts'!$C44,'Budget Filing Data'!$B$10:$B$314,'1 Participant Bill Impacts'!$B44) -> 0 | F44: =SUMIFS('Budget Filing Data'!AT$10:AT$314,'Budget Filing Data'!$G$10:$G$314,'1 Participant Bill Impacts'!$C44,'Budget Filing Data'!$B$10:$B$314,'1 Participant Bill Impacts'!$B44) -> 0 | G44: =SUMIFS('Budget Filing Data'!AU$10:AU$314,'Budget Filing Data'!$G$10:$G$314,'1 Participant Bill Impacts'!$C44,'Budget Filing Data'!$B$10:$B$314,'1 Participant Bill Impacts'!$B44) -> 0 | H44: =F44+G44 -> 0 | I44: =IF(D44=0, "NA",F44/D44) -> NA | J44: =IF(E44=0,"NA",G44/E44) -> NA
B45: 2030 | C45: Cross-Cutting | D45: =SUMIFS('Budget Filing Data'!$P$10:$P$314,'Budget Filing Data'!$G$10:$G$314,'1 Participant Bill Impacts'!$C45,'Budget Filing Data'!$B$10:$B$314,'1 Participant Bill Impacts'!$B45) -> 0 | E45: =SUMIFS('Budget Filing Data'!$R$10:$R$314,'Budget Filing Data'!$G$10:$G$314,'1 Participant Bill Impacts'!$C45,'Budget Filing Data'!$B$10:$B$314,'1 Participant Bill Impacts'!$B45) -> 0 | F45: =SUMIFS('Budget Filing Data'!AT$10:AT$314,'Budget Filing Data'!$G$10:$G$314,'1 Participant Bill Impacts'!$C45,'Budget Filing Data'!$B$10:$B$314,'1 Participant Bill Impacts'!$B45) -> 0 | G45: =SUMIFS('Budget Filing Data'!AU$10:AU$314,'Budget Filing Data'!$G$10:$G$314,'1 Participant Bill Impacts'!$C45,'Budget Filing Data'!$B$10:$B$314,'1 Participant Bill Impacts'!$B45) -> 0 | H45: =F45+G45 -> 0 | I45: =IF(D45=0, "NA",F45/D45) -> NA | J45: =IF(E45=0,"NA",G45/E45) -> NA
...

Sheet 2 Rates Rev- IOU Only
B2: Description | C2: Presents the projected changes in electric and gas revenues, rates, and the energy efficiency portion of rates by customer class, illustrating the impact of proposed energy efficiency investments on utility bills. (This Table applies only to the IOU PAs.)
B3: Instructions | C3: Populate only the blue highlighted cells. Review and complete the table accordingly.
B5: PA Name: | C5: ='Read Me'!B10 -> WestLight Energy
B6: Budget Year: | C6: ='Read Me'!B11 -> 2028-2035
D10: Net Present Value of Lifecycle RIM Electric Benefits / Weighted EUL | E10: Net Present Value of Lifecycle RIM Gas Benefits / Weighted EUL | F10: Net Present Value of Lifecycle RIM Electric Costs / Weighted EUL | G10: Net Present Value of Lifecycle RIM Gas Costs / Weighted EUL | H10: RIM Electric Benefits - RIM Electric Costs | I10: RIM Electric Benefits - RIM Electric Costs | J10: Use either IEPR reported or GRC forecasted sales (sector-specific). Provide link to the referenced source. | L10: Net Electric RIM Benefits/2024 Baseline Energy Electric Sales | M10: Net Gas RIM Benefits/2024 Baseline Energy Gas Sales
B11: Program Year | C11: Sector | D11: Annualized RIM Electric Benefits | E11: AnnualizedRIM Gas Benefits | F11: Annualized RIM Electric Costs | G11: AnnualizedRIM Gas Costs | H11: Net Annualized Electric RIM Benefits | I11: Net Annualized Gas RIM Benefits | J11: Forecast 2024 Electric Sales (kWh) | K11: Forecast 2024 Gas Sales (Therms) | L11: $/kWh Impacts | M11: $/Therm Impacts
B12: Reference: 2024 | C12: Total | D12: =D17+D22+D27+D32+D37+D42+D47 -> 0 | E12: =E17+E22+E27+E32+E37+E42+E47 -> 0 | F12: =F17+F22+F27+F32+F37+F42+F47 -> 0 | G12: =G17+G22+G27+G32+G37+G42+G47 -> 0 | H12: =D12-F12 -> 0 | I12: =E12-G12 -> 0 | L12: =H12/$J$12 -> #DIV/0! | M12: =I12/$K$12 -> #DIV/0!
B13: 2028 | C13: Total | D13: =D18+D23+D28+D33+D38+D43+D48 -> 233818.72 | E13: =E18+E23+E28+E33+E38+E43+E48 -> 193215.31 | F13: =F18+F23+F28+F33+F38+F43+F48 -> 1120770 | G13: =G18+G23+G28+G33+G38+G43+G48 -> 299265.74 | H13: =D13-F13 -> -886951.28 | I13: =E13-G13 -> -106050.42 | J13: =F13-H13 -> 2007721.3 | K13: =G13-I13 -> 405316.16 | L13: =H13/$J$12 -> #DIV/0! | M13: =I13/$K$12 -> #DIV/0!
B14: 2029 | C14: Total | D14: =D19+D24+D29+D34+D39+D44+D49 -> 1038567.5 | E14: =E19+E24+E29+E34+E39+E44+E49 -> 459155.54 | F14: =F19+F24+F29+F34+F39+F44+F49 -> 3447497.2 | G14: =G19+G24+G29+G34+G39+G44+G49 -> 649426.64 | H14: =D14-F14 -> -2408929.7 | I14: =E14-G14 -> -190271.1 | J14: =F14-H14 -> 5856426.9 | K14: =G14-I14 -> 839697.74 | L14: =H14/$J$12 -> #DIV/0! | M14: =I14/$K$12 -> #DIV/0!
B15: 2030 | C15: Total | D15: =D20+D25+D30+D35+D40+D45+D50 -> 1164644.5 | E15: =E20+E25+E30+E35+E40+E45+E50 -> 602424.59 | F15: =F20+F25+F30+F35+F40+F45+F50 -> 3663812.3 | G15: =G20+G25+G30+G35+G40+G45+G50 -> 794199.6 | H15: =D15-F15 -> -2499167.8 | I15: =E15-G15 -> -191775 | J15: =F15-H15 -> 6162980.2 | K15: =G15-I15 -> 985974.6 | L15: =H15/$J$12 -> #DIV/0! | M15: =I15/$K$12 -> #DIV/0!
B16: 2031 | C16: Total | D16: =D21+D26+D31+D36+D41+D46+D51 -> 1298625.6 | E16: =E21+E26+E31+E36+E41+E46+E51 -> 746898.32 | F16: =F21+F26+F31+F36+F41+F46+F51 -> 4042214.8 | G16: =G21+G26+G31+G36+G41+G46+G51 -> 943367.34 | H16: =D16-F16 -> -2743589.2 | I16: =E16-G16 -> -196469.02 | J16: =F16-H16 -> 6785803.9 | K16: =G16-I16 -> 1139836.4 | L16: =H16/$J$12 -> #DIV/0! | M16: =I16/$K$12 -> #DIV/0!
B17: Reference: 2024 | C17: Residential | H17: =D17-F17 -> 0 | I17: =E17-G17 -> 0 | L17: =H17/$J$17 -> #DIV/0! | M17: =I17/$K$17 -> #DIV/0!
B18: 2028 | C18: Residential | D18: =SUMIFS('Budget Filing Data'!BA$10:BA$1000000,'Budget Filing Data'!$B$10:$B$1000000,'2 Rates Rev- IOU Only'!$B18,'Budget Filing Data'!$G$10:$G$1000000,'2 Rates Rev- IOU Only'!$C18) -> 55157.699 | E18: =SUMIFS('Budget Filing Data'!BB$10:BB$1000000,'Budget Filing Data'!$B$10:$B$1000000,'2 Rates Rev- IOU Only'!$B18,'Budget Filing Data'!$G$10:$G$1000000,'2 Rates Rev- IOU Only'!$C18) -> 44326.334 | F18: =SUMIFS('Budget Filing Data'!BC$10:BC$1000000,'Budget Filing Data'!$B$10:$B$1000000,'2 Rates Rev- IOU Only'!$B18,'Budget Filing Data'!$G$10:$G$1000000,'2 Rates Rev- IOU Only'!$C18) -> 234606.53 | G18: =SUMIFS('Budget Filing Data'!BD$10:BD$1000000,'Budget Filing Data'!$B$10:$B$1000000,'2 Rates Rev- IOU Only'!$B18,'Budget Filing Data'!$G$10:$G$1000000,'2 Rates Rev- IOU Only'!$C18) -> 85658.506 | H18: =D18-F18 -> -179448.83 | I18: =E18-G18 -> -41332.173 | L18: =H18/$J$17 -> #DIV/0! | M18: =I18/$K$17 -> #DIV/0!
B19: 2029 | C19: Residential | D19: =SUMIFS('Budget Filing Data'!BA$10:BA$1000000,'Budget Filing Data'!$B$10:$B$1000000,'2 Rates Rev- IOU Only'!$B19,'Budget Filing Data'!$G$10:$G$1000000,'2 Rates Rev- IOU Only'!$C19) -> 79000.629 | E19: =SUMIFS('Budget Filing Data'!BB$10:BB$1000000,'Budget Filing Data'!$B$10:$B$1000000,'2 Rates Rev- IOU Only'!$B19,'Budget Filing Data'!$G$10:$G$1000000,'2 Rates Rev- IOU Only'!$C19) -> 168185.99 | F19: =SUMIFS('Budget Filing Data'!BC$10:BC$1000000,'Budget Filing Data'!$B$10:$B$1000000,'2 Rates Rev- IOU Only'!$B19,'Budget Filing Data'!$G$10:$G$1000000,'2 Rates Rev- IOU Only'!$C19) -> 424373.53 | G19: =SUMIFS('Budget Filing Data'!BD$10:BD$1000000,'Budget Filing Data'!$B$10:$B$1000000,'2 Rates Rev- IOU Only'!$B19,'Budget Filing Data'!$G$10:$G$1000000,'2 Rates Rev- IOU Only'!$C19) -> 248342.25 | H19: =D19-F19 -> -345372.9 | I19: =E19-G19 -> -80156.258 | L19: =H19/$J$17 -> #DIV/0! | M19: =I19/$K$17 -> #DIV/0!
B20: 2030 | C20: Residential | D20: =SUMIFS('Budget Filing Data'!BA$10:BA$1000000,'Budget Filing Data'!$B$10:$B$1000000,'2 Rates Rev- IOU Only'!$B20,'Budget Filing Data'!$G$10:$G$1000000,'2 Rates Rev- IOU Only'!$C20) -> 105281.95 | E20: =SUMIFS('Budget Filing Data'!BB$10:BB$1000000,'Budget Filing Data'!$B$10:$B$1000000,'2 Rates Rev- IOU Only'!$B20,'Budget Filing Data'!$G$10:$G$1000000,'2 Rates Rev- IOU Only'!$C20) -> 294557.19 | F20: =SUMIFS('Budget Filing Data'!BC$10:BC$1000000,'Budget Filing Data'!$B$10:$B$1000000,'2 Rates Rev- IOU Only'!$B20,'Budget Filing Data'!$G$10:$G$1000000,'2 Rates Rev- IOU Only'!$C20) -> 545966.98 | G20: =SUMIFS('Budget Filing Data'!BD$10:BD$1000000,'Budget Filing Data'!$B$10:$B$1000000,'2 Rates Rev- IOU Only'!$B20,'Budget Filing Data'!$G$10:$G$1000000,'2 Rates Rev- IOU Only'!$C20) -> 377891.42 | H20: =D20-F20 -> -440685.04 | I20: =E20-G20 -> -83334.229 | L20: =H20/$J$17 -> #DIV/0! | M20: =I20/$K$17 -> #DIV/0!
B21: 2031 | C21: Residential | D21: =SUMIFS('Budget Filing Data'!BA$10:BA$1000000,'Budget Filing Data'!$B$10:$B$1000000,'2 Rates Rev- IOU Only'!$B21,'Budget Filing Data'!$G$10:$G$1000000,'2 Rates Rev- IOU Only'!$C21) -> 145512.91 | E21: =SUMIFS('Budget Filing Data'!BB$10:BB$1000000,'Budget Filing Data'!$B$10:$B$1000000,'2 Rates Rev- IOU Only'!$B21,'Budget Filing Data'!$G$10:$G$1000000,'2 Rates Rev- IOU Only'!$C21) -> 382056.96 | F21: =SUMIFS('Budget Filing Data'!BC$10:BC$1000000,'Budget Filing Data'!$B$10:$B$1000000,'2 Rates Rev- IOU Only'!$B21,'Budget Filing Data'!$G$10:$G$1000000,'2 Rates Rev- IOU Only'!$C21) -> 711840.5 | G21: =SUMIFS('Budget Filing Data'!BD$10:BD$1000000,'Budget Filing Data'!$B$10:$B$1000000,'2 Rates Rev- IOU Only'!$B21,'Budget Filing Data'!$G$10:$G$1000000,'2 Rates Rev- IOU Only'!$C21) -> 465704.51 | H21: =D21-F21 -> -566327.59 | I21: =E21-G21 -> -83647.553 | L21: =H21/$J$17 -> #DIV/0! | M21: =I21/$K$17 -> #DIV/0!
B22: Reference: 2024 | C22: Commercial | H22: =D22-F22 -> 0 | I22: =E22-G22 -> 0 | L22: =H22/$J$22 -> #DIV/0! | M22: =I22/$K$22 -> #DIV/0!
B23: 2028 | C23: Commercial | D23: =SUMIFS('Budget Filing Data'!BA$10:BA$1000000,'Budget Filing Data'!$B$10:$B$1000000,'2 Rates Rev- IOU Only'!$B23,'Budget Filing Data'!$G$10:$G$1000000,'2 Rates Rev- IOU Only'!$C23) -> 178661.02 | E23: =SUMIFS('Budget Filing Data'!BB$10:BB$1000000,'Budget Filing Data'!$B$10:$B$1000000,'2 Rates Rev- IOU Only'!$B23,'Budget Filing Data'!$G$10:$G$1000000,'2 Rates Rev- IOU Only'!$C23) -> 148888.98 | F23: =SUMIFS('Budget Filing Data'!BC$10:BC$1000000,'Budget Filing Data'!$B$10:$B$1000000,'2 Rates Rev- IOU Only'!$B23,'Budget Filing Data'!$G$10:$G$1000000,'2 Rates Rev- IOU Only'!$C23) -> 886163.47 | G23: =SUMIFS('Budget Filing Data'!BD$10:BD$1000000,'Budget Filing Data'!$B$10:$B$1000000,'2 Rates Rev- IOU Only'!$B23,'Budget Filing Data'!$G$10:$G$1000000,'2 Rates Rev- IOU Only'!$C23) -> 213607.23 | H23: =D23-F23 -> -707502.46 | I23: =E23-G23 -> -64718.249 | L23: =H23/$J$22 -> #DIV/0! | M23: =I23/$K$22 -> #DIV/0!
B24: 2029 | C24: Commercial | D24: =SUMIFS('Budget Filing Data'!BA$10:BA$1000000,'Budget Filing Data'!$B$10:$B$1000000,'2 Rates Rev- IOU Only'!$B24,'Budget Filing Data'!$G$10:$G$1000000,'2 Rates Rev- IOU Only'!$C24) -> 959566.87 | E24: =SUMIFS('Budget Filing Data'!BB$10:BB$1000000,'Budget Filing Data'!$B$10:$B$1000000,'2 Rates Rev- IOU Only'!$B24,'Budget Filing Data'!$G$10:$G$1000000,'2 Rates Rev- IOU Only'!$C24) -> 290969.54 | F24: =SUMIFS('Budget Filing Data'!BC$10:BC$1000000,'Budget Filing Data'!$B$10:$B$1000000,'2 Rates Rev- IOU Only'!$B24,'Budget Filing Data'!$G$10:$G$1000000,'2 Rates Rev- IOU Only'!$C24) -> 3023123.6 | G24: =SUMIFS('Budget Filing Data'!BD$10:BD$1000000,'Budget Filing Data'!$B$10:$B$1000000,'2 Rates Rev- IOU Only'!$B24,'Budget Filing Data'!$G$10:$G$1000000,'2 Rates Rev- IOU Only'!$C24) -> 401084.39 | H24: =D24-F24 -> -2063556.8 | I24: =E24-G24 -> -110114.84 | L24: =H24/$J$22 -> #DIV/0! | M24: =I24/$K$22 -> #DIV/0!
