Workbook

Sheet Read Me
B2: California Public Utilities Commission
B3: Business Plan Application Template
B7: Updated: | C7: March, 2026 | F7: WORKBOOK DROPDOWN MENU CONTROL
B9: General Instructions for Completing the Tables: | F9: Target Exempt | G9: PA | H9: Program Implementer | I9: Sector | J9: Program Category | K9: Program Segment | L9: Program Changes Reason
B10: PG&E | C10: Input your PA name here. This will appear on all tabs. | F10: Yes | G10: PG&E | H10: IOU Core | I10: Residential | J10: Emerging Tech | K10: Resource Acquisition | L10: Programs to be closed with the disposition of 2028-2035 EE Application
B11: 2028-2035 | C11: Input your reference years here. This will appear on all tabs | F11: No | G11: SCE | H11: Third Party | I11: Commercial | J11: WE&T | K11: Market Support | L11: Programs to be closed upon completion of commitments
C12: All currency will be reported to the dollar, i.e., $0. | G12: SoCalGas | H12: REN/CCA | I12: Industrial | J12: Financing | K12: Equity | L12: Programs with reduced budgets (>40% budget decrease)
C13: Follow the legend to guide the input of various data requirements. | G13: SDG&E | I13: Agricultural | J13: Market Transformation | K13: Codes & Standards | L13: Programs with enhanced budgets (>40% budget increase)
C14: When adding rows, ensure all formulas are copied. | G14: BayREN | I14: Public | J14: Other | K14: EM&V | L14: Programs that are new in 2028 or beyond
C15: All tables totals should be recalculated to ensure footing/cross footing accuracy. | I15: Cross-Cutting | J15: New Construction | L15: Programs with Third-Party Contracts that Sunset in 2028-2031
C16: Be mindful of print area to ensure footnotes are included when added. | I16: Portfolio Support | J16: Marketing Education & Outreach
C17: Review the legend at the bottom of the Read Me. | J17: Energy Savings Assistance
J18: Codes & Standards
B19: Description | J19: EM&V
B20: This workbook supports the development and submission of CPUC Business Plan Application by providing a standardized template for organizing key programmatic, budgetary, and analytical information. Each Tab plans a specific role in collecting, processing, and summarizing relevant data to meet submission and regulatory requirements.
B22: Workbook Tab Definitions
B23: Function Definitions | C23: This tab provides a detailed breakdown of functional categories and definitions used to allocate and report energy efficiency program costs across planning, implementation, compliance, engineering, analytics, marketing, IT, and incentive functions.
B24: 0 Validations | C24: Provides a summary of key budget, revenue requirement, and cost category comparisons across the workbook, highlighting differences to ensure consistency between spending requests, cost recovery, and functional allocations.
B25: 1 Participant Bill Impacts | C25: Calculates estimated average annual and lifecycle bill savings for participating customers by applying electric and gas rates to forecasted program energy savings.
B26: 2 Rate Impacts | C26: Presents the projected changes in electric and gas revenues, rates, and the energy efficiency portion of rates by customer class, illustrating the impact of proposed energy efficiency investments on utility bills.
B27: 3.1 Funding Category | C27: Summarizes funding sources and budget allocations for electric and gas programs, including procurement and revenue requirements, across various program administrators and utilities.
B28: 3.2 Funding - CCA_REN only | C28: Tracks annual electric and gas energy efficiency funds allocated by IOUs to RENs and CCAs from 2028–2035.
B29: 4.1 Program Budget 2028-2031 | C29: Outlines portfolio budget requests, spending, unspent and carryover balances, and cost components for your utility energy efficiency portfolio, including EM&V, ME&O, ESA, and financing pilots.
B30: 4.2 Sector Seg Budget 2032-2035 | C30: Details annual budget requests, energy savings, and emissions impacts by sector and program segment to support portfolio planning from 2028–2035.
B31: 4.3 TSB and C&S Budget 2032-2035 | C31: Compares business plan forecasts to CPUC goals for 2028–2035, including Total System Benefit and energy savings metrics for incentive programs and codes & standards.
B32: Budget Filing Data | C32: Contains raw budget filing data from CEDARS and CET grouped by Year, PA, Program ID, Program Name, Program Group, Primary Sector, Statewide Program, Program Category, Program Implementer, Filing Year Quarter, Program Segment and Program Status. Also includes calculations of interim steps related to cost-effectiveness metrics.
B33: 6 Statewide Programs | C33: Outlines statewide energy efficiency programs, including total contract budgets, proportional funding contributions, and administrative costs allocated across IOUs based on electric and gas load shares.
B34: 7 PA PY Budget | C34: Summarizes annual cost recovery requests (2028–2031) for IOUs, RENs, and CCAs, including EM&V, oversight, and offsets from unspent funds.
... B38: 11 Program Cards | C38: Flat file version of the program card tables in the narrative. Pas can use this template to populate the narrative.
B40: Legend
B41: Solid Gray, black font | C41: This cell style indicates a formula that should not be edited by the user.
B42: Solid Blue, blue font | C42: This cell style indicates a data input cell that should be edited by the user.
B43: Solid Gold, black font | C43: This cell style indicates the cell is a header/footer, no data input cell.
B44: Solid Green, black font | C44: This cell style indicates the aggregated data could come from record level budget filing (posted in CEDARS) or from the aggregated data described in the "Budget Filing Data" tab.

Sheet Function Definitions
B2: Description | C2: This tab provides a detailed breakdown of functional categories and definitions used to allocate and report energy efficiency program costs across planning, implementation, compliance, engineering, analytics, marketing, IT, and incentive functions.
B4: Instructions | C4: Review table to familiarize yourself with functions definitions.
B6: PA Name: | C6: ='Read Me'!B10 -> PG&E
B7: Budget Year: | C7: ='Read Me'!B11 -> 2028-2035
B9: FUNCTION DEFINITIONS
B10: Aggregated Category | C10: Definition | D10: Functional Category | E10: Detailed Definition
B11: Policy, Strategy, and Regulatory Reporting Compliance | C11: Includes policy, strategy, compliance, audits and regulatory support | D11: Planning & Compliance | E11: DSM Goal Planning; lead legislative review/positioning; policy support on reg proceedings; portfolio optimization; end use-market strategy; DSM lead for PRP, DRP, ES; locational targeting; audit support; SOX certifications; developing control plans; developing action plans; continuous monitoring; inspections; program/product QA/QC; decision compliance oversight/tracking; data requests; policies & procedures
D12: Company Regulatory Support | E12: Case management for EE proceedings
B13: Program management | C13: Includes labor, contracts, admin costs for program design, program implementation, product and channel management for all sectors | D13: Program Management & Delivery | E13: Market Segment & Locational Resource programs; Business Core & Finance Programs; Large Power DR Programs; Non-Res HVAC & Technical Services; Program Integration & Optimization; Residential EE & DR Programs (incl. Res HVAC QI); IQP & Economic Assistance Programs; Mass Market DR Programs; Education & Information Products & Services; Energy Leader Partnerships; Institutional & Federal Partnerships; REN Coordination; Strategic Plan Support; Energy/Water Program Mgt; Service Level Agreement Tracking
D14: Product Management | E14: Manage end-to-end new products and services (P&S) intake, evaluation, and launch process; develop and facilitate P&S governance teams, coordination of all sub-process owners, stakeholders, and technical resources required to evaluate and launch new products; evaluate and launch new services and OOR opportunities; develop external partnerships & strategic alliances; work with various companies and associations to help advance standards, products, and tech.; work with external experts to help reduce SCE costs to deliver new prog. and products; develop and launch new customer technologies, products, services for residential and business customers; conduct customer pilots of new technologies and programs; lead customer field demonstrations of new technologies and products; align new P&S to savings programs/incentives; develop new programs/incentives in support of savings goals
D15: Channel Management
D16: Contract Management | E16: Budget forecasting, spend tracking, invoice processing, and contract management with vendors and suppliers; Regulatory support for ME&O activities
B17: Engineering Services | C17: Includes engineering, project management, and contracts associated with workpaper development and pre/post sales project technical reviews and design assistance | D17: Custom project support | E17: Management of Emerging Products projects; Customized reviews; LCR/RFO support; Ex-ante review management; Technical policy support; Technical assessments; Workpapers; Tool development; End use subject matter expertise
D18: Deemed workpapers
D19: Project management
B20: Customer Application/Rebate and Incentive Processing | C20: Costs associated with application management and rebate and incentive processing (deemed and custom) | D20: Rebate & Application Processing
B21: Inspections | C21: Costs associated with project inspections | D21: Inspections
B22: Portfolio Analytics | C22: Includes analytics support, including internal performance reporting and external reporting | D22: Data analytics | E22: Data development for programs, products and services; Standard and ad hoc data extracts for internal and external clients ; Database management; CPUC, CAISO reporting; Data reconciliation; E3 support ; Compliance filing support; Funding Oversight; ESPI support; Program Results Data & Performance
B24: EM&V | C24: EM&V expenditures | D24: EM&V Studies | E24: Program and product review; manage evaluation studies
D25: EM&V Forecasting | E25: EE lead for LTPP and IEPR; market potential study; integration w/ procurement planning; CPUC Demand Analysis Working Group
B26: ME&O | C26: Costs associated with utility EE marketing; no statewide; focus on outsourced portion | D26: Marketing | E26: Customer Programs, Products, and Services Marketing; Digital Product Development; Digital Content & Optimization
D27: Customer insights | E27: Voice of the Customer; Customer satisfaction study measurement and analysis (JD Power, SDS); Customer testing/research
B28: Account Management / Sales | C28: Costs associated with account rep energy efficiency sales functions | D28: Account Management
B29: IT | C29: IT project specific costs and regular O&M | D29: IT - project specific | E29: Projects and minor enhancements. Includes project management/business integration ("PMO/BID"). Excluded: maintenance (which SCE defines as when something goes down, normal batch processing, verifying interfaces, etc.).
D30: IT - regular O&M
B31: Call Center | C31: Costs associated with call center staff fielding EE program questions | D31: Call Center
B32: Incentives | C32: Costs of rebate and incentive payments to customers | D32: Incentives

Sheet 0 Validations
B2: Description | C2: Provides a summary of key budget, revenue requirement, and cost category comparisons across the workbook, highlighting differences to ensure consistency between spending requests, cost recovery, and functional allocations.
B4: Instructions | C4: No entry required. Review summary tables after completing workbook.
B6: PA Name: | C6: ='Read Me'!B10 -> PG&E
B7: Budget Year: | C7: ='Read Me'!B11 -> 2028-2035
B8: Table 0 – Validations
C9: Spending Budget Comparison | D9: 2028 | E9: =+D9+1 -> 2029 | F9: =+E9+1 -> 2030 | G9: =+F9+1 -> 2031 | H9: =+G9+1 -> 2032 | I9: =+H9+1 -> 2033 | J9: =+I9+1 -> 2034 | K9: =+J9+1 -> 2035
C10: Tab 3.1 - PA Spending Budget Request (PA Program and EM&V) | D10: =SUMIFS('3.1 Funding Category'!$D$10:$D$81, '3.1 Funding Category'!$C$10:$C$81, '3.1 Funding Category'!$C$10, '3.1 Funding Category'!$B$10:$B$81, '0 Validations'!D9)+SUMIFS('3.1 Funding Category'!$D$10:$D$81, '3.1 Funding Category'!$C$10:$C$81, '3.1 Funding Category'!$C$18, '3.1 Funding Category'!$B$10:$B$81, '0 Validations'!D9)+SUMIFS('3.1 Funding Category'!$D$10:$D$81, '3.1 Funding Category'!$C$10:$C$81, '3.1 Funding Category'!$C$26, '3.1 Funding Category'!$B$10:$B$81, '0 Validations'!D9) -> 2.2656333e+08 | E10: =SUMIFS('3.1 Funding Category'!$D$10:$D$81, '3.1 Funding Category'!$C$10:$C$81, '3.1 Funding Category'!$C$10, '3.1 Funding Category'!$B$10:$B$81, '0 Validations'!E9)+SUMIFS('3.1 Funding Category'!$D$10:$D$81, '3.1 Funding Category'!$C$10:$C$81, '3.1 Funding Category'!$C$18, '3.1 Funding Category'!$B$10:$B$81, '0 Validations'!E9)+SUMIFS('3.1 Funding Category'!$D$10:$D$81, '3.1 Funding Category'!$C$10:$C$81, '3.1 Funding Category'!$C$26, '3.1 Funding Category'!$B$10:$B$81, '0 Validations'!E9) -> 2.2767518e+08 | F10: =SUMIFS('3.1 Funding Category'!$D$10:$D$81, '3.1 Funding Category'!$C$10:$C$81, '3.1 Funding Category'!$C$10, '3.1 Funding Category'!$B$10:$B$81, '0 Validations'!F9)+SUMIFS('3.1 Funding Category'!$D$10:$D$81, '3.1 Funding Category'!$C$10:$C$81, '3.1 Funding Category'!$C$18, '3.1 Funding Category'!$B$10:$B$81, '0 Validations'!F9)+SUMIFS('3.1 Funding Category'!$D$10:$D$81, '3.1 Funding Category'!$C$10:$C$81, '3.1 Funding Category'!$C$26, '3.1 Funding Category'!$B$10:$B$81, '0 Validations'!F9) -> 2.2725438e+08 | G10: =SUMIFS('3.1 Funding Category'!$D$10:$D$81, '3.1 Funding Category'!$C$10:$C$81, '3.1 Funding Category'!$C$10, '3.1 Funding Category'!$B$10:$B$81, '0 Validations'!G9)+SUMIFS('3.1 Funding Category'!$D$10:$D$81, '3.1 Funding Category'!$C$10:$C$81, '3.1 Funding Category'!$C$18, '3.1 Funding Category'!$B$10:$B$81, '0 Validations'!G9)+SUMIFS('3.1 Funding Category'!$D$10:$D$81, '3.1 Funding Category'!$C$10:$C$81, '3.1 Funding Category'!$C$26, '3.1 Funding Category'!$B$10:$B$81, '0 Validations'!G9) -> 2.2823032e+08 | H10: =SUMIFS('3.1 Funding Category'!$D$10:$D$81, '3.1 Funding Category'!$C$10:$C$81, '3.1 Funding Category'!$C$10, '3.1 Funding Category'!$B$10:$B$81, '0 Validations'!H9)+SUMIFS('3.1 Funding Category'!$D$10:$D$81, '3.1 Funding Category'!$C$10:$C$81, '3.1 Funding Category'!$C$18, '3.1 Funding Category'!$B$10:$B$81, '0 Validations'!H9)+SUMIFS('3.1 Funding Category'!$D$10:$D$81, '3.1 Funding Category'!$C$10:$C$81, '3.1 Funding Category'!$C$26, '3.1 Funding Category'!$B$10:$B$81, '0 Validations'!H9) -> 2.2366571e+08 | I10: =SUMIFS('3.1 Funding Category'!$D$10:$D$81, '3.1 Funding Category'!$C$10:$C$81, '3.1 Funding Category'!$C$10, '3.1 Funding Category'!$B$10:$B$81, '0 Validations'!I9)+SUMIFS('3.1 Funding Category'!$D$10:$D$81, '3.1 Funding Category'!$C$10:$C$81, '3.1 Funding Category'!$C$18, '3.1 Funding Category'!$B$10:$B$81, '0 Validations'!I9)+SUMIFS('3.1 Funding Category'!$D$10:$D$81, '3.1 Funding Category'!$C$10:$C$81, '3.1 Funding Category'!$C$26, '3.1 Funding Category'!$B$10:$B$81, '0 Validations'!I9) -> 2.191924e+08 | J10: =SUMIFS('3.1 Funding Category'!$D$10:$D$81, '3.1 Funding Category'!$C$10:$C$81, '3.1 Funding Category'!$C$10, '3.1 Funding Category'!$B$10:$B$81, '0 Validations'!J9)+SUMIFS('3.1 Funding Category'!$D$10:$D$81, '3.1 Funding Category'!$C$10:$C$81, '3.1 Funding Category'!$C$18, '3.1 Funding Category'!$B$10:$B$81, '0 Validations'!J9)+SUMIFS('3.1 Funding Category'!$D$10:$D$81, '3.1 Funding Category'!$C$10:$C$81, '3.1 Funding Category'!$C$26, '3.1 Funding Category'!$B$10:$B$81, '0 Validations'!J9) -> 2.1480855e+08 | K10: =SUMIFS('3.1 Funding Category'!$D$10:$D$81, '3.1 Funding Category'!$C$10:$C$81, '3.1 Funding Category'!$C$10, '3.1 Funding Category'!$B$10:$B$81, '0 Validations'!K9)+SUMIFS('3.1 Funding Category'!$D$10:$D$81, '3.1 Funding Category'!$C$10:$C$81, '3.1 Funding Category'!$C$18, '3.1 Funding Category'!$B$10:$B$81, '0 Validations'!K9)+SUMIFS('3.1 Funding Category'!$D$10:$D$81, '3.1 Funding Category'!$C$10:$C$81, '3.1 Funding Category'!$C$26, '3.1 Funding Category'!$B$10:$B$81, '0 Validations'!K9) -> 2.1051238e+08
C11: Tab 4.1 & 4.2 - PA Spending Budget Request (PA Program and EM&V) | D11: =SUMIFS('4.1 Program Budget 2028-2031'!$N$16:$N$420, '4.1 Program Budget 2028-2031'!$M$16:$M$420,D9) -> 2.2656333e+08 | E11: =SUMIFS('4.1 Program Budget 2028-2031'!$N$16:$N$420, '4.1 Program Budget 2028-2031'!$M$16:$M$420,E9) -> 2.2767518e+08 | F11: =SUMIFS('4.1 Program Budget 2028-2031'!$N$16:$N$420, '4.1 Program Budget 2028-2031'!$M$16:$M$420,F9) -> 2.2725438e+08 | G11: =SUMIFS('4.1 Program Budget 2028-2031'!$N$16:$N$420, '4.1 Program Budget 2028-2031'!$M$16:$M$420,G9) -> 2.2823032e+08 | H11: =SUMIFS('4.2 Sector Seg Budget 2032-2035'!$F$13:$F$112, '4.2 Sector Seg Budget 2032-2035'!$E$13:$E$112, H9) -> 2.2366571e+08 | I11: =SUMIFS('4.2 Sector Seg Budget 2032-2035'!$F$13:$F$112, '4.2 Sector Seg Budget 2032-2035'!$E$13:$E$112, I9) -> 2.191924e+08 | J11: =SUMIFS('4.2 Sector Seg Budget 2032-2035'!$F$13:$F$112, '4.2 Sector Seg Budget 2032-2035'!$E$13:$E$112, J9) -> 2.1480855e+08 | K11: =SUMIFS('4.2 Sector Seg Budget 2032-2035'!$F$13:$F$112, '4.2 Sector Seg Budget 2032-2035'!$E$13:$E$112, K9) -> 2.1051238e+08
C12: Tab 7 - PA Spending Budget Request (PA Program and EM&V) | D12: =SUMIFS('7 PA PY Budget'!$J$9:$J$60, '7 PA PY Budget'!$D$9:$D$60, '0 Validations'!$C$6, '7 PA PY Budget'!$C$9:$C$60, '0 Validations'!D9) -> 2.2656333e+08 | E12: =SUMIFS('7 PA PY Budget'!$J$9:$J$60, '7 PA PY Budget'!$D$9:$D$60, '0 Validations'!$C$6, '7 PA PY Budget'!$C$9:$C$60, '0 Validations'!E9) -> 2.2767518e+08 | F12: =SUMIFS('7 PA PY Budget'!$J$9:$J$60, '7 PA PY Budget'!$D$9:$D$60, '0 Validations'!$C$6, '7 PA PY Budget'!$C$9:$C$60, '0 Validations'!F9) -> 2.2725438e+08 | G12: =SUMIFS('7 PA PY Budget'!$J$9:$J$60, '7 PA PY Budget'!$D$9:$D$60, '0 Validations'!$C$6, '7 PA PY Budget'!$C$9:$C$60, '0 Validations'!G9) -> 2.2823032e+08 | H12: =SUMIFS('7 PA PY Budget'!$J$9:$J$60, '7 PA PY Budget'!$D$9:$D$60, '0 Validations'!$C$6, '7 PA PY Budget'!$C$9:$C$60, '0 Validations'!H9) -> 0 | I12: =SUMIFS('7 PA PY Budget'!$J$9:$J$60, '7 PA PY Budget'!$D$9:$D$60, '0 Validations'!$C$6, '7 PA PY Budget'!$C$9:$C$60, '0 Validations'!I9) -> 0 | J12: =SUMIFS('7 PA PY Budget'!$J$9:$J$60, '7 PA PY Budget'!$D$9:$D$60, '0 Validations'!$C$6, '7 PA PY Budget'!$C$9:$C$60, '0 Validations'!J9) -> 0 | K12: =SUMIFS('7 PA PY Budget'!$J$9:$J$60, '7 PA PY Budget'!$D$9:$D$60, '0 Validations'!$C$6, '7 PA PY Budget'!$C$9:$C$60, '0 Validations'!K9) -> 0
C13: Tab 8 - PA Spending Budget Request (PA Program and EM&V) | D13: =SUMIFS('8 Cap & Target'!$G$32:$G$111, '8 Cap & Target'!$D$32:$D$111, '8 Cap & Target'!$D$51, '8 Cap & Target'!$B$32:$B$111, D9) -> 2.2656333e+08 | E13: =SUMIFS('8 Cap & Target'!$G$32:$G$111, '8 Cap & Target'!$D$32:$D$111, '8 Cap & Target'!$D$51, '8 Cap & Target'!$B$32:$B$111, E9) -> 2.2767518e+08 | F13: =SUMIFS('8 Cap & Target'!$G$32:$G$111, '8 Cap & Target'!$D$32:$D$111, '8 Cap & Target'!$D$51, '8 Cap & Target'!$B$32:$B$111, F9) -> 2.2725438e+08 | G13: =SUMIFS('8 Cap & Target'!$G$32:$G$111, '8 Cap & Target'!$D$32:$D$111, '8 Cap & Target'!$D$51, '8 Cap & Target'!$B$32:$B$111, G9) -> 2.2823032e+08
C14: Tab 9 - PA Spending Budget Request (PA Program and EM&V) | D14: ='9 Portfolio FTE and Budget'!E55 -> 2.2656333e+08 | E14: ='9 Portfolio FTE and Budget'!F55 -> 2.2767518e+08 | F14: ='9 Portfolio FTE and Budget'!G55 -> 2.2725438e+08 | G14: ='9 Portfolio FTE and Budget'!H55 -> 2.2823032e+08
C15: Difference | D15: =IF(AND(ROUND(D10,2)=ROUND(D11,2),ROUND(D12,2)=ROUND(D13,2),ROUND(D14,2)=ROUND(D13,2),ROUND(D12,2)=ROUND(D11,2),ROUND(D10,2)=ROUND(D14,2),ROUND(D11,2)=ROUND(D13,2))=TRUE,0,"ERROR") -> 0 | E15: =IF(AND(ROUND(E10,2)=ROUND(E11,2),ROUND(E12,2)=ROUND(E13,2),ROUND(E14,2)=ROUND(E13,2),ROUND(E12,2)=ROUND(E11,2),ROUND(E10,2)=ROUND(E14,2),ROUND(E11,2)=ROUND(E13,2))=TRUE,0,"ERROR") -> 0 | F15: =IF(AND(ROUND(F10,2)=ROUND(F11,2),ROUND(F12,2)=ROUND(F13,2),ROUND(F14,2)=ROUND(F13,2),ROUND(F12,2)=ROUND(F11,2),ROUND(F10,2)=ROUND(F14,2),ROUND(F11,2)=ROUND(F13,2))=TRUE,0,"ERROR") -> 0 | G15: =IF(AND(ROUND(G10,2)=ROUND(G11,2),ROUND(G12,2)=ROUND(G13,2),ROUND(G14,2)=ROUND(G13,2),ROUND(G12,2)=ROUND(G11,2),ROUND(G10,2)=ROUND(G14,2),ROUND(G11,2)=ROUND(G13,2))=TRUE,0,"ERROR") -> 0 | H15: =IF(AND(H10=H11)=TRUE,0,"ERROR") -> 0 | I15: =IF(AND(I10=I11)=TRUE,0,"ERROR") -> 0 | J15: =IF(AND(J10=J11)=TRUE,0,"ERROR") -> 0 | K15: =IF(AND(K10=K11)=TRUE,0,"ERROR") -> 0
C17: Revenue Requirement or Cost Recovery Comparison | D17: =LEFT($C$7,4) -> 2028 | E17: =+D17+1 -> 2029 | F17: =+E17+1 -> 2030 | G17: =+F17+1 -> 2031 | H17: =+G17+1 -> 2032 | I17: =+H17+1 -> 2033 | J17: =+I17+1 -> 2034 | K17: =+J17+1 -> 2035
C18: Tab 3.1 - PA Revenue Requirement Request (Cost Recovery) | D18: ='3.1 Funding Category'!$D74 -> 3.4659117e+08 | E18: ='3.1 Funding Category'!$D75 -> 3.6086626e+08 | F18: ='3.1 Funding Category'!$D76 -> 3.7103277e+08 | G18: ='3.1 Funding Category'!$D77 -> 3.828578e+08 | H18: ='3.1 Funding Category'!$D78 -> 3.8943178e+08 | I18: ='3.1 Funding Category'!$D79 -> 3.8959646e+08 | J18: ='3.1 Funding Category'!$D80 -> 3.8957062e+08 | K18: ='3.1 Funding Category'!$D81 -> 3.8992158e+08
D20: 2028 | I20: =+D20+1 -> 2029 | N20: =+I20+1 -> 2030 | S20: =+N20+1 -> 2031
C21: Program Budget by Cost Category | D21: Admin | E21: Mktg | F21: DINI | G21: DI Incentive | H21: EM&V | I21: Admin | J21: Mktg | K21: DINI | L21: DI Incentive | M21: EM&V | N21: Admin | O21: Mktg | P21: DINI | Q21: DI Incentive | R21: EM&V | S21: Admin | T21: Mktg | U21: DINI | V21: DI Incentive | W21: EM&V
C22: Tab 4.1 - Program Budgets | D22: =SUMIFS('4.1 Program Budget 2028-2031'!O$16:O$420, '4.1 Program Budget 2028-2031'!$M$16:$M$420, $D$20) -> 23761108 | E22: =SUMIFS('4.1 Program Budget 2028-2031'!P$16:P$420, '4.1 Program Budget 2028-2031'!$M$16:$M$420, $D$20) -> 14283918 | F22: =SUMIFS('4.1 Program Budget 2028-2031'!Q$16:Q$420, '4.1 Program Budget 2028-2031'!$M$16:$M$420, $D$20) -> 1.385672e+08 | G22: =SUMIFS('4.1 Program Budget 2028-2031'!U$16:U$420, '4.1 Program Budget 2028-2031'!$M$16:$M$420, $D$20) -> 40900011 | H22: =SUMIFS('4.1 Program Budget 2028-2031'!R$16:R$420, '4.1 Program Budget 2028-2031'!$M$16:$M$420, $D$20) -> 9051097.2 | I22: =SUMIFS('4.1 Program Budget 2028-2031'!O$16:O$420, '4.1 Program Budget 2028-2031'!$M$16:$M$420, $I$20) -> 24247499 | J22: =SUMIFS('4.1 Program Budget 2028-2031'!P$16:P$420, '4.1 Program Budget 2028-2031'!$M$16:$M$420, $I$20) -> 14313469 | K22: =SUMIFS('4.1 Program Budget 2028-2031'!Q$16:Q$420, '4.1 Program Budget 2028-2031'!$M$16:$M$420, $I$20) -> 1.3977377e+08 | L22: =SUMIFS('4.1 Program Budget 2028-2031'!U$16:U$420, '4.1 Program Budget 2028-2031'!$M$16:$M$420, $I$20) -> 40244870 | M22: =SUMIFS('4.1 Program Budget 2028-2031'!$R$16:$R$420, '4.1 Program Budget 2028-2031'!$M$16:$M$420, $I$20) -> 9095571.2 | N22: =SUMIFS('4.1 Program Budget 2028-2031'!O$16:O$420, '4.1 Program Budget 2028-2031'!$M$16:$M$420, $N$20) -> 24404471 | O22: =SUMIFS('4.1 Program Budget 2028-2031'!P$16:P$420, '4.1 Program Budget 2028-2031'!$M$16:$M$420, $N$20) -> 14222801 | P22: =SUMIFS('4.1 Program Budget 2028-2031'!Q$16:Q$420, '4.1 Program Budget 2028-2031'!$M$16:$M$420, $N$20) -> 1.3912161e+08 | Q22: =SUMIFS('4.1 Program Budget 2028-2031'!U$16:U$420, '4.1 Program Budget 2028-2031'!$M$16:$M$420, $N$20) -> 40426760 | R22: =SUMIFS('4.1 Program Budget 2028-2031'!$R$16:$R$420, '4.1 Program Budget 2028-2031'!$M$16:$M$420, $N$20) -> 9078739.2 | S22: =SUMIFS('4.1 Program Budget 2028-2031'!O$16:O$420, '4.1 Program Budget 2028-2031'!$M$16:$M$420, $S$20) -> 24312674 | T22: =SUMIFS('4.1 Program Budget 2028-2031'!P$16:P$420, '4.1 Program Budget 2028-2031'!$M$16:$M$420, $S$20) -> 14019826 | U22: =SUMIFS('4.1 Program Budget 2028-2031'!Q$16:Q$420, '4.1 Program Budget 2028-2031'!$M$16:$M$420, $S$20) -> 1.3840886e+08 | V22: =SUMIFS('4.1 Program Budget 2028-2031'!U$16:U$420, '4.1 Program Budget 2028-2031'!$M$16:$M$420, $S$20) -> 42371180 | W22: =SUMIFS('4.1 Program Budget 2028-2031'!$R$16:$R$420, '4.1 Program Budget 2028-2031'!$M$16:$M$420, $S$20) -> 9117776.8
C23: Tab 8 - Caps & Targets | D23: =SUMIFS('8 Cap & Target'!$G$12:$G$111,'8 Cap & Target'!$D$12:$D$111,'8 Cap & Target'!$D$13,'8 Cap & Target'!$B$12:$B$111,D20)+ SUMIFS('8 Cap & Target'!$G$12:$G$111,'8 Cap & Target'!$D$12:$D$111,'8 Cap & Target'!$D$14,'8 Cap & Target'!$B$12:$B$111,D20)+ SUMIFS('8 Cap & Target'!$G$12:$G$111,'8 Cap & Target'!$D$12:$D$111,'8 Cap & Target'!$D$15,'8 Cap & Target'!$B$12:$B$111,D20)+ SUMIFS('8 Cap & Target'!$G$12:$G$111,'8 Cap & Target'!$D$12:$D$111,'8 Cap & Target'!$D$28,'8 Cap & Target'!$B$12:$B$111, D20) -> 23761108 | E23: =SUMIFS('8 Cap & Target'!$G$12:$G$111,'8 Cap & Target'!$D$12:$D$111, '8 Cap & Target'!$D$16,'8 Cap & Target'!$B$12:$B$111, D20) -> 14283918 | F23: =SUMIFS('8 Cap & Target'!$G$12:$G$111,'8 Cap & Target'!$D$12:$D$111, '8 Cap & Target'!$D$19,'8 Cap & Target'!$B$12:$B$111, D20)+ SUMIFS('8 Cap & Target'!$G$12:$G$111,'8 Cap & Target'!$D$12:$D$111, '8 Cap & Target'!$D$20,'8 Cap & Target'!$B$12:$B$111, D20) -> 1.385672e+08 | G23: =SUMIFS('8 Cap & Target'!$G$12:$G$111,'8 Cap & Target'!$D$12:$D$111, '8 Cap & Target'!$D$18,'8 Cap & Target'!$B$12:$B$111, D20) -> 40900011 | H23: =SUMIFS('8 Cap & Target'!$G$12:$G$111,'8 Cap & Target'!$D$12:$D$111, '8 Cap & Target'!$D$21,'8 Cap & Target'!$B$12:$B$111, D20) -> 9051097.2 | I23: =SUMIFS('8 Cap & Target'!$G$12:$G$111,'8 Cap & Target'!$D$12:$D$111,'8 Cap & Target'!$D$13,'8 Cap & Target'!$B$12:$B$111,I20)+ SUMIFS('8 Cap & Target'!$G$12:$G$111,'8 Cap & Target'!$D$12:$D$111,'8 Cap & Target'!$D$14,'8 Cap & Target'!$B$12:$B$111,I20)+ SUMIFS('8 Cap & Target'!$G$12:$G$111,'8 Cap & Target'!$D$12:$D$111,'8 Cap & Target'!$D$15,'8 Cap & Target'!$B$12:$B$111,I20)+ SUMIFS('8 Cap & Target'!$G$12:$G$111,'8 Cap & Target'!$D$12:$D$111,'8 Cap & Target'!$D$28,'8 Cap & Target'!$B$12:$B$111, I20) -> 24247499 | J23: =SUMIFS('8 Cap & Target'!$G$12:$G$111,'8 Cap & Target'!$D$12:$D$111, '8 Cap & Target'!$D$16,'8 Cap & Target'!$B$12:$B$111, I20) -> 14313469 | K23: =SUMIFS('8 Cap & Target'!$G$12:$G$111,'8 Cap & Target'!$D$12:$D$111, '8 Cap & Target'!$D$19,'8 Cap & Target'!$B$12:$B$111, I20)+ SUMIFS('8 Cap & Target'!$G$12:$G$111,'8 Cap & Target'!$D$12:$D$111, '8 Cap & Target'!$D$20,'8 Cap & Target'!$B$12:$B$111, I20) -> 1.3977377e+08 | L23: =SUMIFS('8 Cap & Target'!$G$12:$G$111,'8 Cap & Target'!$D$12:$D$111, '8 Cap & Target'!$D$18,'8 Cap & Target'!$B$12:$B$111, I20) -> 40244870 | M23: =SUMIFS('8 Cap & Target'!$G$12:$G$111,'8 Cap & Target'!$D$12:$D$111, '8 Cap & Target'!$D$21,'8 Cap & Target'!$B$12:$B$111, I20) -> 9095571.2 | N23: =SUMIFS('8 Cap & Target'!$G$12:$G$111,'8 Cap & Target'!$D$12:$D$111,'8 Cap & Target'!$D$13,'8 Cap & Target'!$B$12:$B$111,N20)+ SUMIFS('8 Cap & Target'!$G$12:$G$111,'8 Cap & Target'!$D$12:$D$111,'8 Cap & Target'!$D$14,'8 Cap & Target'!$B$12:$B$111,N20)+ SUMIFS('8 Cap & Target'!$G$12:$G$111,'8 Cap & Target'!$D$12:$D$111,'8 Cap & Target'!$D$15,'8 Cap & Target'!$B$12:$B$111,N20)+ SUMIFS('8 Cap & Target'!$G$12:$G$111,'8 Cap & Target'!$D$12:$D$111,'8 Cap & Target'!$D$28,'8 Cap & Target'!$B$12:$B$111, N20) -> 24404471 | O23: =SUMIFS('8 Cap & Target'!$G$12:$G$111,'8 Cap & Target'!$D$12:$D$111, '8 Cap & Target'!$D$16,'8 Cap & Target'!$B$12:$B$111, N20) -> 14222801 | P23: =SUMIFS('8 Cap & Target'!$G$12:$G$111,'8 Cap & Target'!$D$12:$D$111, '8 Cap & Target'!$D$19,'8 Cap & Target'!$B$12:$B$111, N20)+ SUMIFS('8 Cap & Target'!$G$12:$G$111,'8 Cap & Target'!$D$12:$D$111, '8 Cap & Target'!$D$20,'8 Cap & Target'!$B$12:$B$111, N20) -> 1.3912161e+08 | Q23: =SUMIFS('8 Cap & Target'!$G$12:$G$111,'8 Cap & Target'!$D$12:$D$111, '8 Cap & Target'!$D$18,'8 Cap & Target'!$B$12:$B$111, N20) -> 40426760 | R23: =SUMIFS('8 Cap & Target'!$G$12:$G$111,'8 Cap & Target'!$D$12:$D$111, '8 Cap & Target'!$D$21,'8 Cap & Target'!$B$12:$B$111, N20) -> 9078739.2 | S23: =SUMIFS('8 Cap & Target'!$G$12:$G$111,'8 Cap & Target'!$D$12:$D$111,'8 Cap & Target'!$D$13,'8 Cap & Target'!$B$12:$B$111,S20)+ SUMIFS('8 Cap & Target'!$G$12:$G$111,'8 Cap & Target'!$D$12:$D$111,'8 Cap & Target'!$D$14,'8 Cap & Target'!$B$12:$B$111,S20)+ SUMIFS('8 Cap & Target'!$G$12:$G$111,'8 Cap & Target'!$D$12:$D$111,'8 Cap & Target'!$D$15,'8 Cap & Target'!$B$12:$B$111,S20)+ SUMIFS('8 Cap & Target'!$G$12:$G$111,'8 Cap & Target'!$D$12:$D$111,'8 Cap & Target'!$D$28,'8 Cap & Target'!$B$12:$B$111, S20) -> 24312674 | T23: =SUMIFS('8 Cap & Target'!$G$12:$G$111,'8 Cap & Target'!$D$12:$D$111, '8 Cap & Target'!$D$16,'8 Cap & Target'!$B$12:$B$111, S20) -> 14019826 | U23: =SUMIFS('8 Cap & Target'!$G$12:$G$111,'8 Cap & Target'!$D$12:$D$111, '8 Cap & Target'!$D$19,'8 Cap & Target'!$B$12:$B$111, S20)+ SUMIFS('8 Cap & Target'!$G$12:$G$111,'8 Cap & Target'!$D$12:$D$111, '8 Cap & Target'!$D$20,'8 Cap & Target'!$B$12:$B$111, S20) -> 1.3840886e+08 | V23: =SUMIFS('8 Cap & Target'!$G$12:$G$111,'8 Cap & Target'!$D$12:$D$111, '8 Cap & Target'!$D$18,'8 Cap & Target'!$B$12:$B$111, S20) -> 42371180 | W23: =SUMIFS('8 Cap & Target'!$G$12:$G$111,'8 Cap & Target'!$D$12:$D$111, '8 Cap & Target'!$D$21,'8 Cap & Target'!$B$12:$B$111, S20) -> 9117776.8
C24: Difference | D24: =ROUND(D22,2)-ROUND(D23,2) -> 0 | E24: =ROUND(E22,2)-ROUND(E23,2) -> 0 | F24: =ROUND(F22,2)-ROUND(F23,2) -> 0 | G24: =ROUND(G22,2)-ROUND(G23,2) -> 0 | H24: =ROUND(H22,2)-ROUND(H23,2) -> 0 | I24: =ROUND(I22,2)-ROUND(I23,2) -> 0 | J24: =ROUND(J22,2)-ROUND(J23,2) -> 0 | K24: =ROUND(K22,2)-ROUND(K23,2) -> 0 | ... W24: =ROUND(W22,2)-ROUND(W23,2) -> 0
C25: Tab 9 - Incentives Column, EE Total | G25: =SUM('9 Portfolio FTE and Budget'!E52:E53) -> 40900011 | L25: =SUM('9 Portfolio FTE and Budget'!F52:F53) -> 40244870 | Q25: =SUM('9 Portfolio FTE and Budget'!G52:G53) -> 40426760 | V25: =SUM('9 Portfolio FTE and Budget'!H52:H53) -> 42371180
C26: Difference | G26: =+G22-G25 -> 0 | L26: =+L22-L25 -> 0 | Q26: =+Q22-Q25 -> 0 | V26: =+V22-V25 -> 0

Sheet 1 Participant Bill Impacts
B2: Description | C2: Calculates estimated average first year bill savings for participating customers by calculated the electric and gas savings with the forecasted program energy savings.
B3: Instructions | C3: 2024 data is required for baseline.
B5: PA Name: | C5: ='Read Me'!B10 -> PG&E
B6: Budget Year: | C6: ='Read Me'!B11 -> 2028-2035
B7: Table 1 – Participant Bill Impacts
B11: Program Year | C11: Sector | D11: Participant First Year Electric Net Savings (kWh) | E11: Participant First Year Gas Net Savings (Therms) | F11: Total Average Annual Bill Savings Electric ($) | G11: Total Average Annual Bill Savings Gas ($) | H11: Total Bill Savings | I11: Calculated $/kWh | J11: Calculated $/Therms
B12: Reference: 2024 | C12: Total | D12: =D17+D22+D27+D32+D37+D42+D47 -> 1.5669906e+09 | E12: =E17+E22+E27+E32+E37+E42+E47 -> 58557433 | F12: =F17+F22+F27+F32+F37+F42+F47 -> 5.4440698e+08 | G12: =G17+G22+G27+G32+G37+G42+G47 -> 66747392 | H12: =H17+H22+H27+H32+H37+H42+H47 -> 6.1115437e+08 | I12: =IF(D12<>0,F12/D12,0) -> 0.34742197 | J12: =IF(E12<>0,G12/E12,0) -> 1.139862
B13: 2028 | C13: Total | D13: =D18+D23+D28+D33+D38+D43+D48 -> 1.0444402e+09 | E13: =E18+E23+E28+E33+E38+E43+E48 -> 36056056 | F13: =F18+F23+F28+F33+F38+F43+F48 -> 2.536185e+08 | G13: =G18+G23+G28+G33+G38+G43+G48 -> 63471168 | H13: =H18+H23+H28+H33+H38+H43+H48 -> 3.1708967e+08 | I13: =IF(D13<>0,F13/D13,0) -> 0.24282721 | J13: =IF(E13<>0,G13/E13,0) -> 1.7603469
B14: 2029 | C14: Total | D14: =D19+D24+D29+D34+D39+D44+D49 -> 9.2235039e+08 | E14: =E19+E24+E29+E34+E39+E44+E49 -> 35251591 | F14: =F19+F24+F29+F34+F39+F44+F49 -> 2.3752293e+08 | G14: =G19+G24+G29+G34+G39+G44+G49 -> 62658373 | H14: =H19+H24+H29+H34+H39+H44+H49 -> 3.001813e+08 | I14: =IF(D14<>0,F14/D14,0) -> 0.25751919 | J14: =IF(E14<>0,G14/E14,0) -> 1.7774623
B15: 2030 | C15: Total | D15: =D20+D25+D30+D35+D40+D45+D50 -> 8.7944056e+08 | E15: =E20+E25+E30+E35+E40+E45+E50 -> 34931523 | F15: =F20+F25+F30+F35+F40+F45+F50 -> 2.3651044e+08 | G15: =G20+G25+G30+G35+G40+G45+G50 -> 63616555 | H15: =H20+H25+H30+H35+H40+H45+H50 -> 3.0012699e+08 | I15: =IF(D15<>0,F15/D15,0) -> 0.26893283 | J15: =IF(E15<>0,G15/E15,0) -> 1.8211789
B16: 2031 | C16: Total | D16: =D21+D26+D31+D36+D41+D46+D51 -> 8.4964363e+08 | E16: =E21+E26+E31+E36+E41+E46+E51 -> 34457302 | F16: =F21+F26+F31+F36+F41+F46+F51 -> 2.3750193e+08 | G16: =G21+G26+G31+G36+G41+G46+G51 -> 64374825 | H16: =H21+H26+H31+H36+H41+H46+H51 -> 3.0187676e+08 | I16: =IF(D16<>0,F16/D16,0) -> 0.27953123 | J16: =IF(E16<>0,G16/E16,0) -> 1.8682492
B17: Reference: 2024 | C17: Residential | D17: 2.7638974e+08 | E17: 9151526.3 | F17: 99762168 | G17: 22892619 | H17: =F17+G17 -> 1.2265479e+08 | I17: =IF(D17<>0,F17/D17,0) -> 0.36094743 | J17: =IF(E17<>0,G17/E17,0) -> 2.5015083
B18: 2028 | C18: Residential | D18: =SUMIFS('Budget Filing Data'!$P$10:$P$550,'Budget Filing Data'!$G$10:$G$550,'1 Participant Bill Impacts'!$C18,'Budget Filing Data'!$B$10:$B$550,'1 Participant Bill Impacts'!$B18) -> 2.7114252e+08 | E18: =SUMIFS('Budget Filing Data'!$R$10:$R$550,'Budget Filing Data'!$G$10:$G$550,'1 Participant Bill Impacts'!$C18,'Budget Filing Data'!$B$10:$B$550,'1 Participant Bill Impacts'!$B18) -> 9144721.3 | F18: =SUMIFS('Budget Filing Data'!$AT$10:$AT$550,'Budget Filing Data'!$G$10:$G$550,'1 Participant Bill Impacts'!$C18,'Budget Filing Data'!$B$10:$B$550,'1 Participant Bill Impacts'!$B18) -> 1.1010089e+08 | G18: =SUMIFS('Budget Filing Data'!$AU$10:$AU$550,'Budget Filing Data'!$G$10:$G$550,'1 Participant Bill Impacts'!$C18,'Budget Filing Data'!$B$10:$B$550,'1 Participant Bill Impacts'!$B18) -> 25683927 | H18: =F18+G18 -> 1.3578482e+08 | I18: =IF(D18<>0,F18/D18,0) -> 0.40606281 | J18: =IF(E18<>0,G18/E18,0) -> 2.8086068
B19: 2029 | C19: Residential | D19: =SUMIFS('Budget Filing Data'!$P$10:$P$550,'Budget Filing Data'!$G$10:$G$550,'1 Participant Bill Impacts'!$C19,'Budget Filing Data'!$B$10:$B$550,'1 Participant Bill Impacts'!$B19) -> 2.711473e+08 | E19: =SUMIFS('Budget Filing Data'!$R$10:$R$550,'Budget Filing Data'!$G$10:$G$550,'1 Participant Bill Impacts'!$C19,'Budget Filing Data'!$B$10:$B$550,'1 Participant Bill Impacts'!$B19) -> 9140343.9 | F19: =SUMIFS('Budget Filing Data'!$AT$10:$AT$550,'Budget Filing Data'!$G$10:$G$550,'1 Participant Bill Impacts'!$C19,'Budget Filing Data'!$B$10:$B$550,'1 Participant Bill Impacts'!$B19) -> 1.1340386e+08 | G19: =SUMIFS('Budget Filing Data'!$AU$10:$AU$550,'Budget Filing Data'!$G$10:$G$550,'1 Participant Bill Impacts'!$C19,'Budget Filing Data'!$B$10:$B$550,'1 Participant Bill Impacts'!$B19) -> 26445307 | H19: =F19+G19 -> 1.3984917e+08 | I19: =IF(D19<>0,F19/D19,0) -> 0.41823712 | J19: =IF(E19<>0,G19/E19,0) -> 2.8932507
B20: 2030 | C20: Residential | D20: =SUMIFS('Budget Filing Data'!$P$10:$P$550,'Budget Filing Data'!$G$10:$G$550,'1 Participant Bill Impacts'!$C20,'Budget Filing Data'!$B$10:$B$550,'1 Participant Bill Impacts'!$B20) -> 2.7111448e+08 | E20: =SUMIFS('Budget Filing Data'!$R$10:$R$550,'Budget Filing Data'!$G$10:$G$550,'1 Participant Bill Impacts'!$C20,'Budget Filing Data'!$B$10:$B$550,'1 Participant Bill Impacts'!$B20) -> 9140470.3 | F20: =SUMIFS('Budget Filing Data'!$AT$10:$AT$550,'Budget Filing Data'!$G$10:$G$550,'1 Participant Bill Impacts'!$C20,'Budget Filing Data'!$B$10:$B$550,'1 Participant Bill Impacts'!$B20) -> 1.1679262e+08 | G20: =SUMIFS('Budget Filing Data'!$AU$10:$AU$550,'Budget Filing Data'!$G$10:$G$550,'1 Participant Bill Impacts'!$C20,'Budget Filing Data'!$B$10:$B$550,'1 Participant Bill Impacts'!$B20) -> 27239310 | H20: =F20+G20 -> 1.4403193e+08 | I20: =IF(D20<>0,F20/D20,0) -> 0.43078712 | J20: =IF(E20<>0,G20/E20,0) -> 2.9800776
B21: 2031 | C21: Residential | D21: =SUMIFS('Budget Filing Data'!$P$10:$P$550,'Budget Filing Data'!$G$10:$G$550,'1 Participant Bill Impacts'!$C21,'Budget Filing Data'!$B$10:$B$550,'1 Participant Bill Impacts'!$B21) -> 2.7110415e+08 | E21: =SUMIFS('Budget Filing Data'!$R$10:$R$550,'Budget Filing Data'!$G$10:$G$550,'1 Participant Bill Impacts'!$C21,'Budget Filing Data'!$B$10:$B$550,'1 Participant Bill Impacts'!$B21) -> 9146722.2 | F21: =SUMIFS('Budget Filing Data'!$AT$10:$AT$550,'Budget Filing Data'!$G$10:$G$550,'1 Participant Bill Impacts'!$C21,'Budget Filing Data'!$B$10:$B$550,'1 Participant Bill Impacts'!$B21) -> 1.2029016e+08 | G21: =SUMIFS('Budget Filing Data'!$AU$10:$AU$550,'Budget Filing Data'!$G$10:$G$550,'1 Participant Bill Impacts'!$C21,'Budget Filing Data'!$B$10:$B$550,'1 Participant Bill Impacts'!$B21) -> 28070210 | H21: =F21+G21 -> 1.4836037e+08 | I21: =IF(D21<>0,F21/D21,0) -> 0.44370461 | J21: =IF(E21<>0,G21/E21,0) -> 3.0688819
B22: Reference: 2024 | C22: Commercial | D22: 14152194 | E22: 3591792.8 | F22: 5360066.5 | G22: 6265563 | H22: =F22+G22 -> 11625630 | I22: =IF(D22<>0,F22/D22,0) -> 0.37874455 | J22: =IF(E22<>0,G22/E22,0) -> 1.744411
B23: 2028 | C23: Commercial | D23: =SUMIFS('Budget Filing Data'!$P$10:$P$550,'Budget Filing Data'!$G$10:$G$550,'1 Participant Bill Impacts'!$C23,'Budget Filing Data'!$B$10:$B$550,'1 Participant Bill Impacts'!$B23) -> 11890211 | E23: =SUMIFS('Budget Filing Data'!$R$10:$R$550,'Budget Filing Data'!$G$10:$G$550,'1 Participant Bill Impacts'!$C23,'Budget Filing Data'!$B$10:$B$550,'1 Participant Bill Impacts'!$B23) -> 4161861 | F23: =SUMIFS('Budget Filing Data'!$AT$10:$AT$550,'Budget Filing Data'!$G$10:$G$550,'1 Participant Bill Impacts'!$C23,'Budget Filing Data'!$B$10:$B$550,'1 Participant Bill Impacts'!$B23) -> 2590167.4 | G23: =SUMIFS('Budget Filing Data'!$AU$10:$AU$550,'Budget Filing Data'!$G$10:$G$550,'1 Participant Bill Impacts'!$C23,'Budget Filing Data'!$B$10:$B$550,'1 Participant Bill Impacts'!$B23) -> 4898881.9 | H23: =F23+G23 -> 7489049.3 | I23: =IF(D23<>0,F23/D23,0) -> 0.21784032 | J23: =IF(E23<>0,G23/E23,0) -> 1.1770893
B24: 2029 | C24: Commercial | D24: =SUMIFS('Budget Filing Data'!$P$10:$P$550,'Budget Filing Data'!$G$10:$G$550,'1 Participant Bill Impacts'!$C24,'Budget Filing Data'!$B$10:$B$550,'1 Participant Bill Impacts'!$B24) -> 15162688 | E24: =SUMIFS('Budget Filing Data'!$R$10:$R$550,'Budget Filing Data'!$G$10:$G$550,'1 Participant Bill Impacts'!$C24,'Budget Filing Data'!$B$10:$B$550,'1 Participant Bill Impacts'!$B24) -> 4065021.8 | F24: =SUMIFS('Budget Filing Data'!$AT$10:$AT$550,'Budget Filing Data'!$G$10:$G$550,'1 Participant Bill Impacts'!$C24,'Budget Filing Data'!$B$10:$B$550,'1 Participant Bill Impacts'!$B24) -> 4054421.3 | G24: =SUMIFS('Budget Filing Data'!$AU$10:$AU$550,'Budget Filing Data'!$G$10:$G$550,'1 Participant Bill Impacts'!$C24,'Budget Filing Data'!$B$10:$B$550,'1 Participant Bill Impacts'!$B24) -> 4895174.2 | H24: =F24+G24 -> 8949595.5 | I24: =IF(D24<>0,F24/D24,0) -> 0.26739463 | J24: =IF(E24<>0,G24/E24,0) -> 1.2042184
B25: 2030 | C25: Commercial | D25: =SUMIFS('Budget Filing Data'!$P$10:$P$550,'Budget Filing Data'!$G$10:$G$550,'1 Participant Bill Impacts'!$C25,'Budget Filing Data'!$B$10:$B$550,'1 Participant Bill Impacts'!$B25) -> 14342051 | E25: =SUMIFS('Budget Filing Data'!$R$10:$R$550,'Budget Filing Data'!$G$10:$G$550,'1 Participant Bill Impacts'!$C25,'Budget Filing Data'!$B$10:$B$550,'1 Participant Bill Impacts'!$B25) -> 4051473.6 | F25: =SUMIFS('Budget Filing Data'!$AT$10:$AT$550,'Budget Filing Data'!$G$10:$G$550,'1 Participant Bill Impacts'!$C25,'Budget Filing Data'!$B$10:$B$550,'1 Participant Bill Impacts'!$B25) -> 4076808.1 | G25: =SUMIFS('Budget Filing Data'!$AU$10:$AU$550,'Budget Filing Data'!$G$10:$G$550,'1 Participant Bill Impacts'!$C25,'Budget Filing Data'!$B$10:$B$550,'1 Participant Bill Impacts'!$B25) -> 4963901.1 | H25: =F25+G25 -> 9040709.2 | I25: =IF(D25<>0,F25/D25,0) -> 0.28425558 | J25: =IF(E25<>0,G25/E25,0) -> 1.2252088
B26: 2031 | C26: Commercial | D26: =SUMIFS('Budget Filing Data'!$P$10:$P$550,'Budget Filing Data'!$G$10:$G$550,'1 Participant Bill Impacts'!$C26,'Budget Filing Data'!$B$10:$B$550,'1 Participant Bill Impacts'!$B26) -> 15187375 | E26: =SUMIFS('Budget Filing Data'!$R$10:$R$550,'Budget Filing Data'!$G$10:$G$550,'1 Participant Bill Impacts'!$C26,'Budget Filing Data'!$B$10:$B$550,'1 Participant Bill Impacts'!$B26) -> 3950083.1 | F26: =SUMIFS('Budget Filing Data'!$AT$10:$AT$550,'Budget Filing Data'!$G$10:$G$550,'1 Participant Bill Impacts'!$C26,'Budget Filing Data'!$B$10:$B$550,'1 Participant Bill Impacts'!$B26) -> 4416316.8 | G26: =SUMIFS('Budget Filing Data'!$AU$10:$AU$550,'Budget Filing Data'!$G$10:$G$550,'1 Participant Bill Impacts'!$C26,'Budget Filing Data'!$B$10:$B$550,'1 Participant Bill Impacts'!$B26) -> 4944823.9 | H26: =F26+G26 -> 9361140.7 | I26: =IF(D26<>0,F26/D26,0) -> 0.29078869 | J26: =IF(E26<>0,G26/E26,0) -> 1.2518278
B27: Reference: 2024 | C27: Industrial | D27: 57355188 | E27: 17024608 | F27: 13481728 | G27: 8951026 | H27: =F27+G27 -> 22432754 | I27: =IF(D27<>0,F27/D27,0) -> 0.23505683 | J27: =IF(E27<>0,G27/E27,0) -> 0.52576986
B28: 2028 | C28: Industrial | D28: =SUMIFS('Budget Filing Data'!$P$10:$P$550,'Budget Filing Data'!$G$10:$G$550,'1 Participant Bill Impacts'!$C28,'Budget Filing Data'!$B$10:$B$550,'1 Participant Bill Impacts'!$B28) -> 57799285 | E28: =SUMIFS('Budget Filing Data'!$R$10:$R$550,'Budget Filing Data'!$G$10:$G$550,'1 Participant Bill Impacts'!$C28,'Budget Filing Data'!$B$10:$B$550,'1 Participant Bill Impacts'!$B28) -> 4743811.3 | F28: =SUMIFS('Budget Filing Data'!$AT$10:$AT$550,'Budget Filing Data'!$G$10:$G$550,'1 Participant Bill Impacts'!$C28,'Budget Filing Data'!$B$10:$B$550,'1 Participant Bill Impacts'!$B28) -> 13760994 | G28: =SUMIFS('Budget Filing Data'!$AU$10:$AU$550,'Budget Filing Data'!$G$10:$G$550,'1 Participant Bill Impacts'!$C28,'Budget Filing Data'!$B$10:$B$550,'1 Participant Bill Impacts'!$B28) -> 6440450.3 | H28: =F28+G28 -> 20201445 | I28: =IF(D28<>0,F28/D28,0) -> 0.23808243 | J28: =IF(E28<>0,G28/E28,0) -> 1.3576531
B29: 2029 | C29: Industrial | D29: =SUMIFS('Budget Filing Data'!$P$10:$P$550,'Budget Filing Data'!$G$10:$G$550,'1 Participant Bill Impacts'!$C29,'Budget Filing Data'!$B$10:$B$550,'1 Participant Bill Impacts'!$B29) -> 56795935 | E29: =SUMIFS('Budget Filing Data'!$R$10:$R$550,'Budget Filing Data'!$G$10:$G$550,'1 Participant Bill Impacts'!$C29,'Budget Filing Data'!$B$10:$B$550,'1 Participant Bill Impacts'!$B29) -> 5098298.9 | F29: =SUMIFS('Budget Filing Data'!$AT$10:$AT$550,'Budget Filing Data'!$G$10:$G$550,'1 Participant Bill Impacts'!$C29,'Budget Filing Data'!$B$10:$B$550,'1 Participant Bill Impacts'!$B29) -> 13941722 | G29: =SUMIFS('Budget Filing Data'!$AU$10:$AU$550,'Budget Filing Data'!$G$10:$G$550,'1 Participant Bill Impacts'!$C29,'Budget Filing Data'!$B$10:$B$550,'1 Participant Bill Impacts'!$B29) -> 7129648.5 | H29: =F29+G29 -> 21071370 | I29: =IF(D29<>0,F29/D29,0) -> 0.24547042 | J29: =IF(E29<>0,G29/E29,0) -> 1.3984367
B30: 2030 | C30: Industrial | D30: =SUMIFS('Budget Filing Data'!$P$10:$P$550,'Budget Filing Data'!$G$10:$G$550,'1 Participant Bill Impacts'!$C30,'Budget Filing Data'!$B$10:$B$550,'1 Participant Bill Impacts'!$B30) -> 56052435 | E30: =SUMIFS('Budget Filing Data'!$R$10:$R$550,'Budget Filing Data'!$G$10:$G$550,'1 Participant Bill Impacts'!$C30,'Budget Filing Data'!$B$10:$B$550,'1 Participant Bill Impacts'!$B30) -> 4880664 | F30: =SUMIFS('Budget Filing Data'!$AT$10:$AT$550,'Budget Filing Data'!$G$10:$G$550,'1 Participant Bill Impacts'!$C30,'Budget Filing Data'!$B$10:$B$550,'1 Participant Bill Impacts'!$B30) -> 14181703 | G30: =SUMIFS('Budget Filing Data'!$AU$10:$AU$550,'Budget Filing Data'!$G$10:$G$550,'1 Participant Bill Impacts'!$C30,'Budget Filing Data'!$B$10:$B$550,'1 Participant Bill Impacts'!$B30) -> 7029022.3 | H30: =F30+G30 -> 21210725 | I30: =IF(D30<>0,F30/D30,0) -> 0.25300779 | J30: =IF(E30<>0,G30/E30,0) -> 1.4401775
B31: 2031 | C31: Industrial | D31: =SUMIFS('Budget Filing Data'!$P$10:$P$550,'Budget Filing Data'!$G$10:$G$550,'1 Participant Bill Impacts'!$C31,'Budget Filing Data'!$B$10:$B$550,'1 Participant Bill Impacts'!$B31) -> 53795963 | E31: =SUMIFS('Budget Filing Data'!$R$10:$R$550,'Budget Filing Data'!$G$10:$G$550,'1 Participant Bill Impacts'!$C31,'Budget Filing Data'!$B$10:$B$550,'1 Participant Bill Impacts'!$B31) -> 4740624.5 | F31: =SUMIFS('Budget Filing Data'!$AT$10:$AT$550,'Budget Filing Data'!$G$10:$G$550,'1 Participant Bill Impacts'!$C31,'Budget Filing Data'!$B$10:$B$550,'1 Participant Bill Impacts'!$B31) -> 14027493 | G31: =SUMIFS('Budget Filing Data'!$AU$10:$AU$550,'Budget Filing Data'!$G$10:$G$550,'1 Participant Bill Impacts'!$C31,'Budget Filing Data'!$B$10:$B$550,'1 Participant Bill Impacts'!$B31) -> 7030366.7 | H31: =F31+G31 -> 21057860 | I31: =IF(D31<>0,F31/D31,0) -> 0.26075364 | J31: =IF(E31<>0,G31/E31,0) -> 1.4830043
B32: Reference: 2024 | C32: Agricultural | D32: 7952177.7 | E32: 2400238.5 | F32: 3024149.5 | G32: 1261973.1 | H32: =F32+G32 -> 4286122.5 | I32: =IF(D32<>0,F32/D32,0) -> 0.38029199 | J32: =IF(E32<>0,G32/E32,0) -> 0.52576986
B33: 2028 | C33: Agricultural | D33: =SUMIFS('Budget Filing Data'!$P$10:$P$550,'Budget Filing Data'!$G$10:$G$550,'1 Participant Bill Impacts'!$C33,'Budget Filing Data'!$B$10:$B$550,'1 Participant Bill Impacts'!$B33) -> 7498082.8 | E33: =SUMIFS('Budget Filing Data'!$R$10:$R$550,'Budget Filing Data'!$G$10:$G$550,'1 Participant Bill Impacts'!$C33,'Budget Filing Data'!$B$10:$B$550,'1 Participant Bill Impacts'!$B33) -> 318043.57 | F33: =SUMIFS('Budget Filing Data'!$AT$10:$AT$550,'Budget Filing Data'!$G$10:$G$550,'1 Participant Bill Impacts'!$C33,'Budget Filing Data'!$B$10:$B$550,'1 Participant Bill Impacts'!$B33) -> 2272602.7 | G33: =SUMIFS('Budget Filing Data'!$AU$10:$AU$550,'Budget Filing Data'!$G$10:$G$550,'1 Participant Bill Impacts'!$C33,'Budget Filing Data'!$B$10:$B$550,'1 Participant Bill Impacts'!$B33) -> 374782.42 | H33: =F33+G33 -> 2647385.1 | I33: =IF(D33<>0,F33/D33,0) -> 0.30309117 | J33: =IF(E33<>0,G33/E33,0) -> 1.1783996
B34: 2029 | C34: Agricultural | D34: =SUMIFS('Budget Filing Data'!$P$10:$P$550,'Budget Filing Data'!$G$10:$G$550,'1 Participant Bill Impacts'!$C34,'Budget Filing Data'!$B$10:$B$550,'1 Participant Bill Impacts'!$B34) -> 4144682.8 | E34: =SUMIFS('Budget Filing Data'!$R$10:$R$550,'Budget Filing Data'!$G$10:$G$550,'1 Participant Bill Impacts'!$C34,'Budget Filing Data'!$B$10:$B$550,'1 Participant Bill Impacts'!$B34) -> 441793.57 | F34: =SUMIFS('Budget Filing Data'!$AT$10:$AT$550,'Budget Filing Data'!$G$10:$G$550,'1 Participant Bill Impacts'!$C34,'Budget Filing Data'!$B$10:$B$550,'1 Participant Bill Impacts'!$B34) -> 1658513.8 | G34: =SUMIFS('Budget Filing Data'!$AU$10:$AU$550,'Budget Filing Data'!$G$10:$G$550,'1 Participant Bill Impacts'!$C34,'Budget Filing Data'!$B$10:$B$550,'1 Participant Bill Impacts'!$B34) -> 504691.31 | H34: =F34+G34 -> 2163205.1 | I34: =IF(D34<>0,F34/D34,0) -> 0.40015458 | J34: =IF(E34<>0,G34/E34,0) -> 1.1423691
B35: 2030 | C35: Agricultural | D35: =SUMIFS('Budget Filing Data'!$P$10:$P$550,'Budget Filing Data'!$G$10:$G$550,'1 Participant Bill Impacts'!$C35,'Budget Filing Data'!$B$10:$B$550,'1 Participant Bill Impacts'!$B35) -> 4320800.8 | E35: =SUMIFS('Budget Filing Data'!$R$10:$R$550,'Budget Filing Data'!$G$10:$G$550,'1 Participant Bill Impacts'!$C35,'Budget Filing Data'!$B$10:$B$550,'1 Participant Bill Impacts'!$B35) -> 407887.57 | F35: =SUMIFS('Budget Filing Data'!$AT$10:$AT$550,'Budget Filing Data'!$G$10:$G$550,'1 Participant Bill Impacts'!$C35,'Budget Filing Data'!$B$10:$B$550,'1 Participant Bill Impacts'!$B35) -> 1691962.9 | G35: =SUMIFS('Budget Filing Data'!$AU$10:$AU$550,'Budget Filing Data'!$G$10:$G$550,'1 Participant Bill Impacts'!$C35,'Budget Filing Data'!$B$10:$B$550,'1 Participant Bill Impacts'!$B35) -> 481742.3 | H35: =F35+G35 -> 2173705.2 | I35: =IF(D35<>0,F35/D35,0) -> 0.39158549 | J35: =IF(E35<>0,G35/E35,0) -> 1.1810664
B36: 2031 | C36: Agricultural | D36: =SUMIFS('Budget Filing Data'!$P$10:$P$550,'Budget Filing Data'!$G$10:$G$550,'1 Participant Bill Impacts'!$C36,'Budget Filing Data'!$B$10:$B$550,'1 Participant Bill Impacts'!$B36) -> 2836412.8 | E36: =SUMIFS('Budget Filing Data'!$R$10:$R$550,'Budget Filing Data'!$G$10:$G$550,'1 Participant Bill Impacts'!$C36,'Budget Filing Data'!$B$10:$B$550,'1 Participant Bill Impacts'!$B36) -> 420573.84 | F36: =SUMIFS('Budget Filing Data'!$AT$10:$AT$550,'Budget Filing Data'!$G$10:$G$550,'1 Participant Bill Impacts'!$C36,'Budget Filing Data'!$B$10:$B$550,'1 Participant Bill Impacts'!$B36) -> 1073624 | G36: =SUMIFS('Budget Filing Data'!$AU$10:$AU$550,'Budget Filing Data'!$G$10:$G$550,'1 Participant Bill Impacts'!$C36,'Budget Filing Data'!$B$10:$B$550,'1 Participant Bill Impacts'!$B36) -> 514126.1 | H36: =F36+G36 -> 1587750.1 | I36: =IF(D36<>0,F36/D36,0) -> 0.37851474 | J36: =IF(E36<>0,G36/E36,0) -> 1.2224396
B37: Reference: 2024 | C37: Public | D37: -7943478.3 | E37: 1493025.6 | F37: -3008549.1 | G37: 2604450.3 | H37: =F37+G37 -> -404098.81 | I37: =IF(D37<>0,F37/D37,0) -> 0.37874455 | J37: =IF(E37<>0,G37/E37,0) -> 1.744411
B38: 2028 | C38: Public | D38: =SUMIFS('Budget Filing Data'!$P$10:$P$550,'Budget Filing Data'!$G$10:$G$550,'1 Participant Bill Impacts'!$C38,'Budget Filing Data'!$B$10:$B$550,'1 Participant Bill Impacts'!$B38) -> -457811.43 | E38: =SUMIFS('Budget Filing Data'!$R$10:$R$550,'Budget Filing Data'!$G$10:$G$550,'1 Participant Bill Impacts'!$C38,'Budget Filing Data'!$B$10:$B$550,'1 Participant Bill Impacts'!$B38) -> 625010.42 | F38: =SUMIFS('Budget Filing Data'!$AT$10:$AT$550,'Budget Filing Data'!$G$10:$G$550,'1 Participant Bill Impacts'!$C38,'Budget Filing Data'!$B$10:$B$550,'1 Participant Bill Impacts'!$B38) -> -718685.15 | G38: =SUMIFS('Budget Filing Data'!$AU$10:$AU$550,'Budget Filing Data'!$G$10:$G$550,'1 Participant Bill Impacts'!$C38,'Budget Filing Data'!$B$10:$B$550,'1 Participant Bill Impacts'!$B38) -> 759031.05 | H38: =F38+G38 -> 40345.902 | I38: =IF(D38<>0,F38/D38,0) -> 1.5698279 | J38: =IF(E38<>0,G38/E38,0) -> 1.2144294
B39: 2029 | C39: Public | D39: =SUMIFS('Budget Filing Data'!$P$10:$P$550,'Budget Filing Data'!$G$10:$G$550,'1 Participant Bill Impacts'!$C39,'Budget Filing Data'!$B$10:$B$550,'1 Participant Bill Impacts'!$B39) -> 2322850.5 | E39: =SUMIFS('Budget Filing Data'!$R$10:$R$550,'Budget Filing Data'!$G$10:$G$550,'1 Participant Bill Impacts'!$C39,'Budget Filing Data'!$B$10:$B$550,'1 Participant Bill Impacts'!$B39) -> 642226.16 | F39: =SUMIFS('Budget Filing Data'!$AT$10:$AT$550,'Budget Filing Data'!$G$10:$G$550,'1 Participant Bill Impacts'!$C39,'Budget Filing Data'!$B$10:$B$550,'1 Participant Bill Impacts'!$B39) -> -242164.37 | G39: =SUMIFS('Budget Filing Data'!$AU$10:$AU$550,'Budget Filing Data'!$G$10:$G$550,'1 Participant Bill Impacts'!$C39,'Budget Filing Data'!$B$10:$B$550,'1 Participant Bill Impacts'!$B39) -> 861814.18 | H39: =F39+G39 -> 619649.81 | I39: =IF(D39<>0,F39/D39,0) -> -0.1042531 | J39: =IF(E39<>0,G39/E39,0) -> 1.341917
B40: 2030 | C40: Public | D40: =SUMIFS('Budget Filing Data'!$P$10:$P$550,'Budget Filing Data'!$G$10:$G$550,'1 Participant Bill Impacts'!$C40,'Budget Filing Data'!$B$10:$B$550,'1 Participant Bill Impacts'!$B40) -> 5735409.4 | E40: =SUMIFS('Budget Filing Data'!$R$10:$R$550,'Budget Filing Data'!$G$10:$G$550,'1 Participant Bill Impacts'!$C40,'Budget Filing Data'!$B$10:$B$550,'1 Participant Bill Impacts'!$B40) -> 617965.14 | F40: =SUMIFS('Budget Filing Data'!$AT$10:$AT$550,'Budget Filing Data'!$G$10:$G$550,'1 Participant Bill Impacts'!$C40,'Budget Filing Data'!$B$10:$B$550,'1 Participant Bill Impacts'!$B40) -> 578911.04 | G40: =SUMIFS('Budget Filing Data'!$AU$10:$AU$550,'Budget Filing Data'!$G$10:$G$550,'1 Participant Bill Impacts'!$C40,'Budget Filing Data'!$B$10:$B$550,'1 Participant Bill Impacts'!$B40) -> 915896.19 | H40: =F40+G40 -> 1494807.2 | I40: =IF(D40<>0,F40/D40,0) -> 0.10093631 | J40: =IF(E40<>0,G40/E40,0) -> 1.4821163
B41: 2031 | C41: Public | D41: =SUMIFS('Budget Filing Data'!$P$10:$P$550,'Budget Filing Data'!$G$10:$G$550,'1 Participant Bill Impacts'!$C41,'Budget Filing Data'!$B$10:$B$550,'1 Participant Bill Impacts'!$B41) -> 7138066.7 | E41: =SUMIFS('Budget Filing Data'!$R$10:$R$550,'Budget Filing Data'!$G$10:$G$550,'1 Participant Bill Impacts'!$C41,'Budget Filing Data'!$B$10:$B$550,'1 Participant Bill Impacts'!$B41) -> 548628.59 | F41: =SUMIFS('Budget Filing Data'!$AT$10:$AT$550,'Budget Filing Data'!$G$10:$G$550,'1 Participant Bill Impacts'!$C41,'Budget Filing Data'!$B$10:$B$550,'1 Participant Bill Impacts'!$B41) -> 1125479.5 | G41: =SUMIFS('Budget Filing Data'!$AU$10:$AU$550,'Budget Filing Data'!$G$10:$G$550,'1 Participant Bill Impacts'!$C41,'Budget Filing Data'!$B$10:$B$550,'1 Participant Bill Impacts'!$B41) -> 875518.22 | H41: =F41+G41 -> 2000997.8 | I41: =IF(D41<>0,F41/D41,0) -> 0.15767288 | J41: =IF(E41<>0,G41/E41,0) -> 1.5958305
B42: Reference: 2024 | C42: Cross-Cutting | D42: 1.2190848e+09 | E42: 24896241 | F42: 4.2578742e+08 | G42: 24771760 | H42: =F42+G42 -> 4.5055918e+08 | I42: =IF(D42<>0,F42/D42,0) -> 0.34926808 | J42: =IF(E42<>0,G42/E42,0) -> 0.995
B43: 2028 | C43: Cross-Cutting | D43: =SUMIFS('Budget Filing Data'!$P$10:$P$550,'Budget Filing Data'!$G$10:$G$550,'1 Participant Bill Impacts'!$C43,'Budget Filing Data'!$B$10:$B$550,'1 Participant Bill Impacts'!$B43) -> 6.965679e+08 | E43: =SUMIFS('Budget Filing Data'!$R$10:$R$550,'Budget Filing Data'!$G$10:$G$550,'1 Participant Bill Impacts'!$C43,'Budget Filing Data'!$B$10:$B$550,'1 Participant Bill Impacts'!$B43) -> 17062608 | F43: =SUMIFS('Budget Filing Data'!$AT$10:$AT$550,'Budget Filing Data'!$G$10:$G$550,'1 Participant Bill Impacts'!$C43,'Budget Filing Data'!$B$10:$B$550,'1 Participant Bill Impacts'!$B43) -> 1.2561252e+08 | G43: =SUMIFS('Budget Filing Data'!$AU$10:$AU$550,'Budget Filing Data'!$G$10:$G$550,'1 Participant Bill Impacts'!$C43,'Budget Filing Data'!$B$10:$B$550,'1 Participant Bill Impacts'!$B43) -> 25314095 | H43: =F43+G43 -> 1.5092662e+08 | I43: =IF(D43<>0,F43/D43,0) -> 0.18033062 | J43: =IF(E43<>0,G43/E43,0) -> 1.4836006
B44: 2029 | C44: Cross-Cutting | D44: =SUMIFS('Budget Filing Data'!$P$10:$P$550,'Budget Filing Data'!$G$10:$G$550,'1 Participant Bill Impacts'!$C44,'Budget Filing Data'!$B$10:$B$550,'1 Participant Bill Impacts'!$B44) -> 5.7277694e+08 | E44: =SUMIFS('Budget Filing Data'!$R$10:$R$550,'Budget Filing Data'!$G$10:$G$550,'1 Participant Bill Impacts'!$C44,'Budget Filing Data'!$B$10:$B$550,'1 Participant Bill Impacts'!$B44) -> 15863907 | F44: =SUMIFS('Budget Filing Data'!$AT$10:$AT$550,'Budget Filing Data'!$G$10:$G$550,'1 Participant Bill Impacts'!$C44,'Budget Filing Data'!$B$10:$B$550,'1 Participant Bill Impacts'!$B44) -> 1.0470657e+08 | G44: =SUMIFS('Budget Filing Data'!$AU$10:$AU$550,'Budget Filing Data'!$G$10:$G$550,'1 Participant Bill Impacts'!$C44,'Budget Filing Data'!$B$10:$B$550,'1 Participant Bill Impacts'!$B44) -> 22821738 | H44: =F44+G44 -> 1.2752831e+08 | I44: =IF(D44<>0,F44/D44,0) -> 0.18280514 | J44: =IF(E44<>0,G44/E44,0) -> 1.4385951
B45: 2030 | C45: Cross-Cutting | D45: =SUMIFS('Budget Filing Data'!$P$10:$P$550,'Budget Filing Data'!$G$10:$G$550,'1 Participant Bill Impacts'!$C45,'Budget Filing Data'!$B$10:$B$550,'1 Participant Bill Impacts'!$B45) -> 5.2787539e+08 | E45: =SUMIFS('Budget Filing Data'!$R$10:$R$550,'Budget Filing Data'!$G$10:$G$550,'1 Participant Bill Impacts'!$C45,'Budget Filing Data'!$B$10:$B$550,'1 Participant Bill Impacts'!$B45) -> 15833063 | F45: =SUMIFS('Budget Filing Data'!$AT$10:$AT$550,'Budget Filing Data'!$G$10:$G$550,'1 Participant Bill Impacts'!$C45,'Budget Filing Data'!$B$10:$B$550,'1 Participant Bill Impacts'!$B45) -> 99188431 | G45: =SUMIFS('Budget Filing Data'!$AU$10:$AU$550,'Budget Filing Data'!$G$10:$G$550,'1 Participant Bill Impacts'!$C45,'Budget Filing Data'!$B$10:$B$550,'1 Participant Bill Impacts'!$B45) -> 22986682 | H45: =F45+G45 -> 1.2217511e+08 | I45: =IF(D45<>0,F45/D45,0) -> 0.18790122 | J45: =IF(E45<>0,G45/E45,0) -> 1.4518153
...

Sheet 2 Rates Rev- IOU Only
B2: Description | C2: Presents the projected changes in electric and gas revenues, rates, and the energy efficiency portion of rates by customer class, illustrating the impact of proposed energy efficiency investments on utility bills. (This Table applies only to the IOU PAs.)
B3: Instructions | C3: Populate only the blue highlighted cells. Review and complete the table accordingly.
B5: PA Name: | C5: ='Read Me'!B10 -> PG&E
B6: Budget Year: | C6: ='Read Me'!B11 -> 2028-2035
B7: Table 2 – Estimated Rate Impacts
D10: Net Present Value of Lifecycle RIM Electric Benefits / Weighted EUL | E10: Net Present Value of Lifecycle RIM Gas Benefits / Weighted EUL | F10: Net Present Value of Lifecycle RIM Electric Costs / Weighted EUL | G10: Net Present Value of Lifecycle RIM Gas Costs / Weighted EUL | H10: RIM Electric Benefits - RIM Electric Costs | I10: RIM Electric Benefits - RIM Electric Costs | J10: PG&E uses actual 2024 Energy Sales Values | L10: Net Electric RIM Benefits/2024 Baseline Energy Electric Sales | M10: Net Gas RIM Benefits/2024 Baseline Energy Gas Sales
B11: Program Year | C11: Sector | D11: Annualized RIM Electric Benefits | E11: Annualized RIM Gas Benefits | F11: Annualized RIM Electric Costs | G11: Annualized RIM Gas Costs | H11: Net Annualized Electric RIM Benefits | I11: Net Annualized Gas RIM Benefits | J11: Actual 2024 Electric Sales (kWh) | K11: Actual 2024 Gas Sales (Therms) | L11: $/kWh Impacts | M11: $/Therm Impacts
B12: Reference: 2024 | C12: Total | D12: =D17+D22+D27+D32+D37+D42+D47 -> 1.0159901e+08 | E12: =E17+E22+E27+E32+E37+E42+E47 -> 81819479 | F12: =F17+F22+F27+F32+F37+F42+F47 -> 6.2100697e+08 | G12: =G17+G22+G27+G32+G37+G42+G47 -> 1.0970438e+08 | H12: =D12-F12 -> -5.1940796e+08 | I12: =E12-G12 -> -27884903 | J12: 73822547411 | K12: 4.3344521e+09 | L12: =H12/$J$12 -> -0.0070358986 | M12: =I12/$K$12 -> -0.0064333166
B13: 2028 | C13: Total | D13: =D18+D23+D28+D33+D38+D43+D48 -> 88323616 | E13: =E18+E23+E28+E33+E38+E43+E48 -> 68955921 | F13: =F18+F23+F28+F33+F38+F43+F48 -> 3.4221936e+08 | G13: =G18+G23+G28+G33+G38+G43+G48 -> 1.1993891e+08 | H13: =D13-F13 -> -2.5389574e+08 | I13: =E13-G13 -> -50982991 | J13: =F13-H13 -> 5.9611509e+08 | K13: =G13-I13 -> 1.709219e+08 | L13: =H13/$J$12 -> -0.0034392709 | M13: =I13/$K$12 -> -0.011762269
B14: 2029 | C14: Total | D14: =D19+D24+D29+D34+D39+D44+D49 -> 83674380 | E14: =E19+E24+E29+E34+E39+E44+E49 -> 71054481 | F14: =F19+F24+F29+F34+F39+F44+F49 -> 3.2438619e+08 | G14: =G19+G24+G29+G34+G39+G44+G49 -> 1.2194098e+08 | H14: =D14-F14 -> -2.4071181e+08 | I14: =E14-G14 -> -50886503 | J14: =F14-H14 -> 5.65098e+08 | K14: =G14-I14 -> 1.7282749e+08 | L14: =H14/$J$12 -> -0.0032606814 | M14: =I14/$K$12 -> -0.011740008
B15: 2030 | C15: Total | D15: =D20+D25+D30+D35+D40+D45+D50 -> 87119060 | E15: =E20+E25+E30+E35+E40+E45+E50 -> 74018993 | F15: =F20+F25+F30+F35+F40+F45+F50 -> 3.215096e+08 | G15: =G20+G25+G30+G35+G40+G45+G50 -> 1.2388773e+08 | H15: =D15-F15 -> -2.3439054e+08 | I15: =E15-G15 -> -49868736 | J15: =F15-H15 -> 5.5590014e+08 | K15: =G15-I15 -> 1.7375647e+08 | L15: =H15/$J$12 -> -0.0031750535 | M15: =I15/$K$12 -> -0.0115052
B16: 2031 | C16: Total | D16: =D21+D26+D31+D36+D41+D46+D51 -> 88501025 | E16: =E21+E26+E31+E36+E41+E46+E51 -> 76683732 | F16: =F21+F26+F31+F36+F41+F46+F51 -> 3.2178919e+08 | G16: =G21+G26+G31+G36+G41+G46+G51 -> 1.2648355e+08 | H16: =D16-F16 -> -2.3328816e+08 | I16: =E16-G16 -> -49799814 | J16: =F16-H16 -> 5.5507736e+08 | K16: =G16-I16 -> 1.7628336e+08 | L16: =H16/$J$12 -> -0.0031601208 | M16: =I16/$K$12 -> -0.011489299
B17: Reference: 2024 | C17: Residential | D17: 32469423 | E17: 14349876 | F17: 1.3190077e+08 | G17: 37482960 | H17: =D17-F17 -> -99431350 | I17: =E17-G17 -> -23133084 | J17: 25969001665 | K17: 1.6945523e+09 | L17: =H17/$J$17 -> -0.0038288476 | M17: =I17/$K$17 -> -0.013651443
